BEGIN:VCALENDAR
VERSION:2.0
PRODID:-//Fort Stockton Community Theatre - ECPv6.15.20//NONSGML v1.0//EN
CALSCALE:GREGORIAN
METHOD:PUBLISH
X-ORIGINAL-URL:https://fscommunitytheatre.org
X-WR-CALDESC:Events for Fort Stockton Community Theatre
REFRESH-INTERVAL;VALUE=DURATION:PT1H
X-Robots-Tag:noindex
X-PUBLISHED-TTL:PT1H
BEGIN:VTIMEZONE
TZID:America/Chicago
BEGIN:DAYLIGHT
TZOFFSETFROM:-0600
TZOFFSETTO:-0500
TZNAME:CDT
DTSTART:20240310T080000
END:DAYLIGHT
BEGIN:STANDARD
TZOFFSETFROM:-0500
TZOFFSETTO:-0600
TZNAME:CST
DTSTART:20241103T070000
END:STANDARD
BEGIN:DAYLIGHT
TZOFFSETFROM:-0600
TZOFFSETTO:-0500
TZNAME:CDT
DTSTART:20250309T080000
END:DAYLIGHT
BEGIN:STANDARD
TZOFFSETFROM:-0500
TZOFFSETTO:-0600
TZNAME:CST
DTSTART:20251102T070000
END:STANDARD
BEGIN:DAYLIGHT
TZOFFSETFROM:-0600
TZOFFSETTO:-0500
TZNAME:CDT
DTSTART:20260308T080000
END:DAYLIGHT
BEGIN:STANDARD
TZOFFSETFROM:-0500
TZOFFSETTO:-0600
TZNAME:CST
DTSTART:20261101T070000
END:STANDARD
END:VTIMEZONE
BEGIN:VEVENT
DTSTART;TZID=America/Chicago:20251004T190000
DTEND;TZID=America/Chicago:20251004T210000
DTSTAMP:20260421T103236
CREATED:20250703T145910Z
LAST-MODIFIED:20250913T214635Z
UID:10000569-1759604400-1759611600@fscommunitytheatre.org
SUMMARY:Film Screening: Dial M for Murder
DESCRIPTION:FREE CLASSIC MOVIES THANKS TO FORT STOCKTON FILM SOCIETY AND THE REA CHARITABLE TRUST \n\n\n\nNext screening: October 4 – Dial M for MurderFort Stockton Community Theatre\, 102 S Nelson St – 7 pm Doors open at 6:30 FREE ADMISSION \n\n\n\nUpcoming screenings:November 15 – Sergeant York
URL:https://fscommunitytheatre.org/event/film-screening-dial-m-for-murder/
CATEGORIES:Other
ATTACH;FMTTYPE=image/png:https://fscommunitytheatre.org/wp-content/uploads/2021/10/FSFS-lg.png
ORGANIZER;CN="Fort Stockton Community Theatre":MAILTO:info@fscommunitytheatre.org
END:VEVENT
END:VCALENDAR