BEGIN:VCALENDAR
VERSION:2.0
PRODID:-//Fort Stockton Community Theatre - ECPv6.15.20//NONSGML v1.0//EN
CALSCALE:GREGORIAN
METHOD:PUBLISH
X-WR-CALNAME:Fort Stockton Community Theatre
X-ORIGINAL-URL:https://fscommunitytheatre.org
X-WR-CALDESC:Events for Fort Stockton Community Theatre
REFRESH-INTERVAL;VALUE=DURATION:PT1H
X-Robots-Tag:noindex
X-PUBLISHED-TTL:PT1H
BEGIN:VTIMEZONE
TZID:America/Chicago
BEGIN:DAYLIGHT
TZOFFSETFROM:-0600
TZOFFSETTO:-0500
TZNAME:CDT
DTSTART:20290311T080000
END:DAYLIGHT
BEGIN:STANDARD
TZOFFSETFROM:-0500
TZOFFSETTO:-0600
TZNAME:CST
DTSTART:20291104T070000
END:STANDARD
BEGIN:DAYLIGHT
TZOFFSETFROM:-0600
TZOFFSETTO:-0500
TZNAME:CDT
DTSTART:20300310T080000
END:DAYLIGHT
BEGIN:STANDARD
TZOFFSETFROM:-0500
TZOFFSETTO:-0600
TZNAME:CST
DTSTART:20301103T070000
END:STANDARD
BEGIN:DAYLIGHT
TZOFFSETFROM:-0600
TZOFFSETTO:-0500
TZNAME:CDT
DTSTART:20310309T080000
END:DAYLIGHT
BEGIN:STANDARD
TZOFFSETFROM:-0500
TZOFFSETTO:-0600
TZNAME:CST
DTSTART:20311102T070000
END:STANDARD
END:VTIMEZONE
BEGIN:VEVENT
DTSTART;TZID=America/Chicago:20300611T171500
DTEND;TZID=America/Chicago:20300611T180000
DTSTAMP:20260416T063507
CREATED:20250913T185438Z
LAST-MODIFIED:20250913T185438Z
UID:10001093-1907428500-1907431200@fscommunitytheatre.org
SUMMARY:FSCT Board of Directors Meeting
DESCRIPTION:The Fort Stockton Community Theatre Board of Directors meets the second Tuesday monthly in the FMH Hall at the Nelson Street Theatre\, 102 S Nelson \nSubject to change
URL:https://fscommunitytheatre.org/event/bod-meeting/2030-06-11/
CATEGORIES:Meetings
ATTACH;FMTTYPE=image/jpeg:https://fscommunitytheatre.org/wp-content/uploads/2020/06/FSCThdr_centered.jpg
END:VEVENT
BEGIN:VEVENT
DTSTART;TZID=America/Chicago:20300709T171500
DTEND;TZID=America/Chicago:20300709T180000
DTSTAMP:20260416T063507
CREATED:20250913T185438Z
LAST-MODIFIED:20250913T185438Z
UID:10001094-1909847700-1909850400@fscommunitytheatre.org
SUMMARY:FSCT Board of Directors Meeting
DESCRIPTION:The Fort Stockton Community Theatre Board of Directors meets the second Tuesday monthly in the FMH Hall at the Nelson Street Theatre\, 102 S Nelson \nSubject to change
URL:https://fscommunitytheatre.org/event/bod-meeting/2030-07-09/
CATEGORIES:Meetings
ATTACH;FMTTYPE=image/jpeg:https://fscommunitytheatre.org/wp-content/uploads/2020/06/FSCThdr_centered.jpg
END:VEVENT
BEGIN:VEVENT
DTSTART;TZID=America/Chicago:20300813T171500
DTEND;TZID=America/Chicago:20300813T180000
DTSTAMP:20260416T063507
CREATED:20250913T185438Z
LAST-MODIFIED:20250913T185438Z
UID:10001095-1912871700-1912874400@fscommunitytheatre.org
SUMMARY:FSCT Board of Directors Meeting
DESCRIPTION:The Fort Stockton Community Theatre Board of Directors meets the second Tuesday monthly in the FMH Hall at the Nelson Street Theatre\, 102 S Nelson \nSubject to change
URL:https://fscommunitytheatre.org/event/bod-meeting/2030-08-13/
CATEGORIES:Meetings
ATTACH;FMTTYPE=image/jpeg:https://fscommunitytheatre.org/wp-content/uploads/2020/06/FSCThdr_centered.jpg
END:VEVENT
BEGIN:VEVENT
DTSTART;TZID=America/Chicago:20300910T171500
DTEND;TZID=America/Chicago:20300910T180000
DTSTAMP:20260416T063507
CREATED:20250913T185438Z
LAST-MODIFIED:20250913T185438Z
UID:10001096-1915290900-1915293600@fscommunitytheatre.org
SUMMARY:FSCT Board of Directors Meeting
DESCRIPTION:The Fort Stockton Community Theatre Board of Directors meets the second Tuesday monthly in the FMH Hall at the Nelson Street Theatre\, 102 S Nelson \nSubject to change
URL:https://fscommunitytheatre.org/event/bod-meeting/2030-09-10/
CATEGORIES:Meetings
ATTACH;FMTTYPE=image/jpeg:https://fscommunitytheatre.org/wp-content/uploads/2020/06/FSCThdr_centered.jpg
END:VEVENT
END:VCALENDAR