BEGIN:VCALENDAR
VERSION:2.0
PRODID:-//Fort Stockton Community Theatre - ECPv6.15.20//NONSGML v1.0//EN
CALSCALE:GREGORIAN
METHOD:PUBLISH
X-ORIGINAL-URL:https://fscommunitytheatre.org
X-WR-CALDESC:Events for Fort Stockton Community Theatre
REFRESH-INTERVAL;VALUE=DURATION:PT1H
X-Robots-Tag:noindex
X-PUBLISHED-TTL:PT1H
BEGIN:VTIMEZONE
TZID:America/Chicago
BEGIN:DAYLIGHT
TZOFFSETFROM:-0600
TZOFFSETTO:-0500
TZNAME:CDT
DTSTART:20240310T080000
END:DAYLIGHT
BEGIN:STANDARD
TZOFFSETFROM:-0500
TZOFFSETTO:-0600
TZNAME:CST
DTSTART:20241103T070000
END:STANDARD
BEGIN:DAYLIGHT
TZOFFSETFROM:-0600
TZOFFSETTO:-0500
TZNAME:CDT
DTSTART:20250309T080000
END:DAYLIGHT
BEGIN:STANDARD
TZOFFSETFROM:-0500
TZOFFSETTO:-0600
TZNAME:CST
DTSTART:20251102T070000
END:STANDARD
BEGIN:DAYLIGHT
TZOFFSETFROM:-0600
TZOFFSETTO:-0500
TZNAME:CDT
DTSTART:20260308T080000
END:DAYLIGHT
BEGIN:STANDARD
TZOFFSETFROM:-0500
TZOFFSETTO:-0600
TZNAME:CST
DTSTART:20261101T070000
END:STANDARD
END:VTIMEZONE
BEGIN:VEVENT
DTSTART;TZID=America/Chicago:20251206T140000
DTEND;TZID=America/Chicago:20251206T160000
DTSTAMP:20260416T080844
CREATED:20251126T165810Z
LAST-MODIFIED:20251126T165926Z
UID:10001114-1765029600-1765036800@fscommunitytheatre.org
SUMMARY:Film Screening: It Happened on 5th Avenue
DESCRIPTION:FREE CLASSIC MOVIES THANKS TO FORT STOCKTON FILM SOCIETY AND THE REA CHARITABLE TRUST \n\n\n\nNext screening: December 6 – It Happened on 5th Avenue Fort Stockton Community Theatre\, 102 S Nelson St – 2 pmDoors open at 1:30FREE ADMISSION \n\n\n\nDoors will open at 1:30\, with free popcorn and drinks courtesy of the Rea Charitable Trust.
URL:https://fscommunitytheatre.org/event/film-screening-it-happened-on-5th-avenue/
CATEGORIES:Other
ATTACH;FMTTYPE=image/png:https://fscommunitytheatre.org/wp-content/uploads/2021/10/FSFS-lg.png
ORGANIZER;CN="Fort Stockton Community Theatre":MAILTO:info@fscommunitytheatre.org
END:VEVENT
BEGIN:VEVENT
DTSTART;TZID=America/Chicago:20251209T171500
DTEND;TZID=America/Chicago:20251209T180000
DTSTAMP:20260416T080844
CREATED:20250913T185438Z
LAST-MODIFIED:20250913T185438Z
UID:10001039-1765300500-1765303200@fscommunitytheatre.org
SUMMARY:FSCT Board of Directors Meeting
DESCRIPTION:The Fort Stockton Community Theatre Board of Directors meets the second Tuesday monthly in the FMH Hall at the Nelson Street Theatre\, 102 S Nelson \nSubject to change
URL:https://fscommunitytheatre.org/event/bod-meeting/2025-12-09/
CATEGORIES:Meetings
ATTACH;FMTTYPE=image/jpeg:https://fscommunitytheatre.org/wp-content/uploads/2020/06/FSCThdr_centered.jpg
END:VEVENT
BEGIN:VEVENT
DTSTART;TZID=America/Chicago:20251211T190000
DTEND;TZID=America/Chicago:20251211T210000
DTSTAMP:20260416T080844
CREATED:20250922T144443Z
LAST-MODIFIED:20251203T112432Z
UID:10001098-1765479600-1765486800@fscommunitytheatre.org
SUMMARY:A Storybook Christmas (December 2025)
DESCRIPTION:CHILDREN’S CHRISTMAS PRODUCTION – December 11-14\, 2025 \n\n\n\nFort Stockton Community Theatre’s Paisano Players are proud to present A STORYBOOK CHRISTMAS\, featuring performances of An Enchanted Bookshop Christmas and Christmas in the Land of Oz.   \n\n\n\nAN ENCHANTED BOOKSHOP CHRISTMAS \n\n\n\nIt’s four days before Christmas and scatterbrained bookshop owner Miss Margie is thrilled to welcome two very special guests — her serious-minded sister Ellen and book-loving niece Annabelle. Ellen was recently laid off from her position as an astronomy professor\, and she’s certain she’ll never find a job again. Her luck changes\, however\, when high-tech billionaire Philip Brantley stops in at the shop and Margie convinces him to hire Ellen for his new space project. \n\n\n\nWith Ellen out shopping\, Margie has a brainstorm to wrap the bookmark that Philip wrote his phone number on and give it to Ellen as a Christmas present. After all\, what could possibly go wrong? Ha! \n\n\n\nWhen the present disappears\, it’s up to beloved come-to-life book characters to solve the mystery of the missing bookmark and save the day for Ellen — all without giving away their magical existence. It’s a hilarious\, heartwarming tale that reminds us that the best gifts don’t come wrapped in pretty paper and bows. \n\n\n\nCHRISTMAS IN THE LAND OF OZ \n\n\n\nThe Wicked Witch of the West becomes the grinch of this delightful holiday play when she steals Christmas from Munchkinland.  It takes all beloved Ozians — Dorothy and Toto\, Scarecrow\, Tin Man\, the Lion\, and the Munchkins – to bring the yuletide holiday back.  In the process\, the Tin Man recovers his sense of humor\, the lonely Lion finds a lady companion\, and Dorothy finds the spirit of Christmas to take back to Kansas for Auntie Em and Uncle Henry. \n\n\n\nThursday\, December 11 – 7:00 pmFriday\, December 12 – 7:00 pmSaturday\, December 13 – 7:00 pmSunday\, December 14 – 2:00 pm \n\n\n\n\n\n\n\nPricingADULT: $10.00CHILD: $5.00SENIOR (65+): $5.00STUDENT: $5.00 \n\n\n\nAdditional InformationAge RangeThis show is suitable for all ages. \n\n\n\nRefund/Exchange PolicyAll sales are final \n\n\n\nLate PolicyFort Stockton Community Theatre does not guarantee late seating. Exterior access doors are locked at the start of each performance. \n\n\n\nThis venue offers accessible parking \n\n\n\nThis venue is a wheelchair accessible venue \n\n\n\nThis venue offers wheelchair accessible seating \n\n\n\nReserved tickets are held until 10 minutes prior to curtain. Reserved tickets unclaimed at that time will be released for general admission purchase.
URL:https://fscommunitytheatre.org/event/an-enchanted-bookshop-december-2025-2/
LOCATION:Nelson Street Theatre\, 102 S Nelson St\, Fort Stockton\, TX\, 79735
CATEGORIES:Performances
ATTACH;FMTTYPE=image/jpeg:https://fscommunitytheatre.org/wp-content/uploads/2025/09/202512-christmas.jpg
GEO:30.885307131159;-102.88051864522
X-APPLE-STRUCTURED-LOCATION;VALUE=URI;X-ADDRESS=Nelson Street Theatre 102 S Nelson St Fort Stockton TX 79735;X-APPLE-RADIUS=500;X-TITLE=102 S Nelson St:geo:-102.88051864522,30.885307131159
END:VEVENT
BEGIN:VEVENT
DTSTART;TZID=America/Chicago:20251212T190000
DTEND;TZID=America/Chicago:20251212T210000
DTSTAMP:20260416T080844
CREATED:20251203T112508Z
LAST-MODIFIED:20251203T112509Z
UID:10001115-1765566000-1765573200@fscommunitytheatre.org
SUMMARY:A Storybook Christmas (December 2025)
DESCRIPTION:CHILDREN’S CHRISTMAS PRODUCTION – December 11-14\, 2025 \n\n\n\nFort Stockton Community Theatre’s Paisano Players are proud to present A STORYBOOK CHRISTMAS\, featuring performances of An Enchanted Bookshop Christmas and Christmas in the Land of Oz.   \n\n\n\nAN ENCHANTED BOOKSHOP CHRISTMAS \n\n\n\nIt’s four days before Christmas and scatterbrained bookshop owner Miss Margie is thrilled to welcome two very special guests — her serious-minded sister Ellen and book-loving niece Annabelle. Ellen was recently laid off from her position as an astronomy professor\, and she’s certain she’ll never find a job again. Her luck changes\, however\, when high-tech billionaire Philip Brantley stops in at the shop and Margie convinces him to hire Ellen for his new space project. \n\n\n\nWith Ellen out shopping\, Margie has a brainstorm to wrap the bookmark that Philip wrote his phone number on and give it to Ellen as a Christmas present. After all\, what could possibly go wrong? Ha! \n\n\n\nWhen the present disappears\, it’s up to beloved come-to-life book characters to solve the mystery of the missing bookmark and save the day for Ellen — all without giving away their magical existence. It’s a hilarious\, heartwarming tale that reminds us that the best gifts don’t come wrapped in pretty paper and bows. \n\n\n\nCHRISTMAS IN THE LAND OF OZ \n\n\n\nThe Wicked Witch of the West becomes the grinch of this delightful holiday play when she steals Christmas from Munchkinland.  It takes all beloved Ozians — Dorothy and Toto\, Scarecrow\, Tin Man\, the Lion\, and the Munchkins – to bring the yuletide holiday back.  In the process\, the Tin Man recovers his sense of humor\, the lonely Lion finds a lady companion\, and Dorothy finds the spirit of Christmas to take back to Kansas for Auntie Em and Uncle Henry. \n\n\n\nThursday\, December 11 – 7:00 pmFriday\, December 12 – 7:00 pmSaturday\, December 13 – 7:00 pmSunday\, December 14 – 2:00 pm \n\n\n\n\n\n\n\nPricingADULT: $10.00CHILD: $5.00SENIOR (65+): $5.00STUDENT: $5.00 \n\n\n\nAdditional InformationAge RangeThis show is suitable for all ages. \n\n\n\nRefund/Exchange PolicyAll sales are final \n\n\n\nLate PolicyFort Stockton Community Theatre does not guarantee late seating. Exterior access doors are locked at the start of each performance. \n\n\n\nThis venue offers accessible parking \n\n\n\nThis venue is a wheelchair accessible venue \n\n\n\nThis venue offers wheelchair accessible seating \n\n\n\nReserved tickets are held until 10 minutes prior to curtain. Reserved tickets unclaimed at that time will be released for general admission purchase.
URL:https://fscommunitytheatre.org/event/a-storybook-christmas-december-2025/
LOCATION:Nelson Street Theatre\, 102 S Nelson St\, Fort Stockton\, TX\, 79735
CATEGORIES:Performances
ATTACH;FMTTYPE=image/jpeg:https://fscommunitytheatre.org/wp-content/uploads/2025/09/202512-christmas.jpg
GEO:30.885307131159;-102.88051864522
X-APPLE-STRUCTURED-LOCATION;VALUE=URI;X-ADDRESS=Nelson Street Theatre 102 S Nelson St Fort Stockton TX 79735;X-APPLE-RADIUS=500;X-TITLE=102 S Nelson St:geo:-102.88051864522,30.885307131159
END:VEVENT
BEGIN:VEVENT
DTSTART;TZID=America/Chicago:20251213T180000
DTEND;TZID=America/Chicago:20251213T210000
DTSTAMP:20260416T080844
CREATED:20251203T161202Z
LAST-MODIFIED:20251203T162848Z
UID:10001118-1765648800-1765659600@fscommunitytheatre.org
SUMMARY:5th Annual Cookie Sale Fundraiser
DESCRIPTION:Supporting Fort Stockton Community Theatre’s Paisano Players \n\n\n\nFMH Hall at the Nelson Street Theatre102 S Nelson St \n\n\n\nThe cookie sale will precede the annual Paisano Players’ Christmas production on Saturday\, December 13\, at 6 pm and Sunday\, December 14\, at 1 pm. \n\n\n\nSales will pause during the performances and resume during intermission and after each show. \n\n\n\nGrab a box to mix and match the perfect gift from our assortment of homemade cookies and treats! \n\n\n\nProceeds will directly support the Paisano Players and youth theatre in Fort Stockton.
URL:https://fscommunitytheatre.org/event/5th-annual-cookie-sale-fundraiser/
ATTACH;FMTTYPE=image/jpeg:https://fscommunitytheatre.org/wp-content/uploads/2025/12/20251214-fsct-cookie-hdr.jpg
END:VEVENT
BEGIN:VEVENT
DTSTART;TZID=America/Chicago:20251213T190000
DTEND;TZID=America/Chicago:20251213T210000
DTSTAMP:20260416T080844
CREATED:20251203T112551Z
LAST-MODIFIED:20251203T112551Z
UID:10001116-1765652400-1765659600@fscommunitytheatre.org
SUMMARY:A Storybook Christmas (December 2025)
DESCRIPTION:CHILDREN’S CHRISTMAS PRODUCTION – December 11-14\, 2025 \n\n\n\nFort Stockton Community Theatre’s Paisano Players are proud to present A STORYBOOK CHRISTMAS\, featuring performances of An Enchanted Bookshop Christmas and Christmas in the Land of Oz.   \n\n\n\nAN ENCHANTED BOOKSHOP CHRISTMAS \n\n\n\nIt’s four days before Christmas and scatterbrained bookshop owner Miss Margie is thrilled to welcome two very special guests — her serious-minded sister Ellen and book-loving niece Annabelle. Ellen was recently laid off from her position as an astronomy professor\, and she’s certain she’ll never find a job again. Her luck changes\, however\, when high-tech billionaire Philip Brantley stops in at the shop and Margie convinces him to hire Ellen for his new space project. \n\n\n\nWith Ellen out shopping\, Margie has a brainstorm to wrap the bookmark that Philip wrote his phone number on and give it to Ellen as a Christmas present. After all\, what could possibly go wrong? Ha! \n\n\n\nWhen the present disappears\, it’s up to beloved come-to-life book characters to solve the mystery of the missing bookmark and save the day for Ellen — all without giving away their magical existence. It’s a hilarious\, heartwarming tale that reminds us that the best gifts don’t come wrapped in pretty paper and bows. \n\n\n\nCHRISTMAS IN THE LAND OF OZ \n\n\n\nThe Wicked Witch of the West becomes the grinch of this delightful holiday play when she steals Christmas from Munchkinland.  It takes all beloved Ozians — Dorothy and Toto\, Scarecrow\, Tin Man\, the Lion\, and the Munchkins – to bring the yuletide holiday back.  In the process\, the Tin Man recovers his sense of humor\, the lonely Lion finds a lady companion\, and Dorothy finds the spirit of Christmas to take back to Kansas for Auntie Em and Uncle Henry. \n\n\n\nThursday\, December 11 – 7:00 pmFriday\, December 12 – 7:00 pmSaturday\, December 13 – 7:00 pmSunday\, December 14 – 2:00 pm \n\n\n\n\n\n\n\nPricingADULT: $10.00CHILD: $5.00SENIOR (65+): $5.00STUDENT: $5.00 \n\n\n\nAdditional InformationAge RangeThis show is suitable for all ages. \n\n\n\nRefund/Exchange PolicyAll sales are final \n\n\n\nLate PolicyFort Stockton Community Theatre does not guarantee late seating. Exterior access doors are locked at the start of each performance. \n\n\n\nThis venue offers accessible parking \n\n\n\nThis venue is a wheelchair accessible venue \n\n\n\nThis venue offers wheelchair accessible seating \n\n\n\nReserved tickets are held until 10 minutes prior to curtain. Reserved tickets unclaimed at that time will be released for general admission purchase.
URL:https://fscommunitytheatre.org/event/a-storybook-christmas-december-2025-2/
LOCATION:Nelson Street Theatre\, 102 S Nelson St\, Fort Stockton\, TX\, 79735
CATEGORIES:Performances
ATTACH;FMTTYPE=image/jpeg:https://fscommunitytheatre.org/wp-content/uploads/2025/09/202512-christmas.jpg
GEO:30.885307131159;-102.88051864522
X-APPLE-STRUCTURED-LOCATION;VALUE=URI;X-ADDRESS=Nelson Street Theatre 102 S Nelson St Fort Stockton TX 79735;X-APPLE-RADIUS=500;X-TITLE=102 S Nelson St:geo:-102.88051864522,30.885307131159
END:VEVENT
BEGIN:VEVENT
DTSTART;TZID=America/Chicago:20251214T130000
DTEND;TZID=America/Chicago:20251214T160000
DTSTAMP:20260416T080844
CREATED:20251203T162811Z
LAST-MODIFIED:20251203T162812Z
UID:10001121-1765717200-1765728000@fscommunitytheatre.org
SUMMARY:5th Annual Cookie Sale Fundraiser
DESCRIPTION:Supporting Fort Stockton Community Theatre’s Paisano Players \n\n\n\nFMH Hall at the Nelson Street Theatre102 S Nelson St \n\n\n\nThe cookie sale will precede the annual Paisano Players’ Christmas production on Saturday\, December 13\, at 6 pm and Sunday\, December 14\, at 1 pm. \n\n\n\nSales will pause during the performances and resume during intermission and after each show. \n\n\n\nGrab a box to mix and match the perfect gift from our assortment of homemade cookies and treats! \n\n\n\nProceeds will directly support the Paisano Players and youth theatre in Fort Stockton.
URL:https://fscommunitytheatre.org/event/5th-annual-cookie-sale-fundraiser-2/
ATTACH;FMTTYPE=image/jpeg:https://fscommunitytheatre.org/wp-content/uploads/2025/12/20251214-fsct-cookie-hdr.jpg
END:VEVENT
BEGIN:VEVENT
DTSTART;TZID=America/Chicago:20251214T140000
DTEND;TZID=America/Chicago:20251214T160000
DTSTAMP:20260416T080844
CREATED:20251203T112652Z
LAST-MODIFIED:20251203T112652Z
UID:10001117-1765720800-1765728000@fscommunitytheatre.org
SUMMARY:A Storybook Christmas (December 2025)
DESCRIPTION:CHILDREN’S CHRISTMAS PRODUCTION – December 11-14\, 2025 \n\n\n\nFort Stockton Community Theatre’s Paisano Players are proud to present A STORYBOOK CHRISTMAS\, featuring performances of An Enchanted Bookshop Christmas and Christmas in the Land of Oz.   \n\n\n\nAN ENCHANTED BOOKSHOP CHRISTMAS \n\n\n\nIt’s four days before Christmas and scatterbrained bookshop owner Miss Margie is thrilled to welcome two very special guests — her serious-minded sister Ellen and book-loving niece Annabelle. Ellen was recently laid off from her position as an astronomy professor\, and she’s certain she’ll never find a job again. Her luck changes\, however\, when high-tech billionaire Philip Brantley stops in at the shop and Margie convinces him to hire Ellen for his new space project. \n\n\n\nWith Ellen out shopping\, Margie has a brainstorm to wrap the bookmark that Philip wrote his phone number on and give it to Ellen as a Christmas present. After all\, what could possibly go wrong? Ha! \n\n\n\nWhen the present disappears\, it’s up to beloved come-to-life book characters to solve the mystery of the missing bookmark and save the day for Ellen — all without giving away their magical existence. It’s a hilarious\, heartwarming tale that reminds us that the best gifts don’t come wrapped in pretty paper and bows. \n\n\n\nCHRISTMAS IN THE LAND OF OZ \n\n\n\nThe Wicked Witch of the West becomes the grinch of this delightful holiday play when she steals Christmas from Munchkinland.  It takes all beloved Ozians — Dorothy and Toto\, Scarecrow\, Tin Man\, the Lion\, and the Munchkins – to bring the yuletide holiday back.  In the process\, the Tin Man recovers his sense of humor\, the lonely Lion finds a lady companion\, and Dorothy finds the spirit of Christmas to take back to Kansas for Auntie Em and Uncle Henry. \n\n\n\nThursday\, December 11 – 7:00 pmFriday\, December 12 – 7:00 pmSaturday\, December 13 – 7:00 pmSunday\, December 14 – 2:00 pm \n\n\n\n\n\n\n\nPricingADULT: $10.00CHILD: $5.00SENIOR (65+): $5.00STUDENT: $5.00 \n\n\n\nAdditional InformationAge RangeThis show is suitable for all ages. \n\n\n\nRefund/Exchange PolicyAll sales are final \n\n\n\nLate PolicyFort Stockton Community Theatre does not guarantee late seating. Exterior access doors are locked at the start of each performance. \n\n\n\nThis venue offers accessible parking \n\n\n\nThis venue is a wheelchair accessible venue \n\n\n\nThis venue offers wheelchair accessible seating \n\n\n\nReserved tickets are held until 10 minutes prior to curtain. Reserved tickets unclaimed at that time will be released for general admission purchase.
URL:https://fscommunitytheatre.org/event/a-storybook-christmas-december-2025-3/
LOCATION:Nelson Street Theatre\, 102 S Nelson St\, Fort Stockton\, TX\, 79735
CATEGORIES:Performances
ATTACH;FMTTYPE=image/jpeg:https://fscommunitytheatre.org/wp-content/uploads/2025/09/202512-christmas.jpg
GEO:30.885307131159;-102.88051864522
X-APPLE-STRUCTURED-LOCATION;VALUE=URI;X-ADDRESS=Nelson Street Theatre 102 S Nelson St Fort Stockton TX 79735;X-APPLE-RADIUS=500;X-TITLE=102 S Nelson St:geo:-102.88051864522,30.885307131159
END:VEVENT
BEGIN:VEVENT
DTSTART;TZID=America/Chicago:20251220T180000
DTEND;TZID=America/Chicago:20251220T210000
DTSTAMP:20260416T080844
CREATED:20251203T163541Z
LAST-MODIFIED:20251203T163640Z
UID:10001122-1766253600-1766264400@fscommunitytheatre.org
SUMMARY:Movie Night: Polar Express
DESCRIPTION:Nelson Street Theatre\, 102 N. Nelson St \n\n\n\nDoors open at 5:00 p.m.\, movie begins at 6:00 p.m. \n\n\n\nDon your favorite Christmas pajamas and join us for hot chocolate and a big-screen adventure. \n\n\n\nHosted by Fort Stockton Community Theatre’s Paisano PlayersSponsored by Darla Cude\, Pecos County District Clerk \n\n\n\nFamily-friendly activities will be available before and after the movie screening. \n\n\n\nAdmission to activities and movie screening is free – donations are gratefully accepted \n\n\n\nNo drop-offs – children under 12 must be supervised
URL:https://fscommunitytheatre.org/event/movie-night-polar-express/
ATTACH;FMTTYPE=image/jpeg:https://fscommunitytheatre.org/wp-content/uploads/2025/12/20251220-fsct-polar.jpg
END:VEVENT
END:VCALENDAR