BEGIN:VCALENDAR
VERSION:2.0
PRODID:-//Fort Stockton Community Theatre - ECPv6.15.20//NONSGML v1.0//EN
CALSCALE:GREGORIAN
METHOD:PUBLISH
X-ORIGINAL-URL:https://fscommunitytheatre.org
X-WR-CALDESC:Events for Fort Stockton Community Theatre
REFRESH-INTERVAL;VALUE=DURATION:PT1H
X-Robots-Tag:noindex
X-PUBLISHED-TTL:PT1H
BEGIN:VTIMEZONE
TZID:America/Chicago
BEGIN:DAYLIGHT
TZOFFSETFROM:-0600
TZOFFSETTO:-0500
TZNAME:CDT
DTSTART:20260308T080000
END:DAYLIGHT
BEGIN:STANDARD
TZOFFSETFROM:-0500
TZOFFSETTO:-0600
TZNAME:CST
DTSTART:20261101T070000
END:STANDARD
BEGIN:DAYLIGHT
TZOFFSETFROM:-0600
TZOFFSETTO:-0500
TZNAME:CDT
DTSTART:20270314T080000
END:DAYLIGHT
BEGIN:STANDARD
TZOFFSETFROM:-0500
TZOFFSETTO:-0600
TZNAME:CST
DTSTART:20271107T070000
END:STANDARD
BEGIN:DAYLIGHT
TZOFFSETFROM:-0600
TZOFFSETTO:-0500
TZNAME:CDT
DTSTART:20280312T080000
END:DAYLIGHT
BEGIN:STANDARD
TZOFFSETFROM:-0500
TZOFFSETTO:-0600
TZNAME:CST
DTSTART:20281105T070000
END:STANDARD
BEGIN:DAYLIGHT
TZOFFSETFROM:-0600
TZOFFSETTO:-0500
TZNAME:CDT
DTSTART:20290311T080000
END:DAYLIGHT
BEGIN:STANDARD
TZOFFSETFROM:-0500
TZOFFSETTO:-0600
TZNAME:CST
DTSTART:20291104T070000
END:STANDARD
BEGIN:DAYLIGHT
TZOFFSETFROM:-0600
TZOFFSETTO:-0500
TZNAME:CDT
DTSTART:20300310T080000
END:DAYLIGHT
BEGIN:STANDARD
TZOFFSETFROM:-0500
TZOFFSETTO:-0600
TZNAME:CST
DTSTART:20301103T070000
END:STANDARD
BEGIN:DAYLIGHT
TZOFFSETFROM:-0600
TZOFFSETTO:-0500
TZNAME:CDT
DTSTART:20310309T080000
END:DAYLIGHT
BEGIN:STANDARD
TZOFFSETFROM:-0500
TZOFFSETTO:-0600
TZNAME:CST
DTSTART:20311102T070000
END:STANDARD
END:VTIMEZONE
BEGIN:VEVENT
DTSTART;TZID=America/Chicago:20271214T171500
DTEND;TZID=America/Chicago:20271214T180000
DTSTAMP:20260416T095659
CREATED:20250913T185438Z
LAST-MODIFIED:20250913T185438Z
UID:10001063-1828804500-1828807200@fscommunitytheatre.org
SUMMARY:FSCT Board of Directors Meeting
DESCRIPTION:The Fort Stockton Community Theatre Board of Directors meets the second Tuesday monthly in the FMH Hall at the Nelson Street Theatre\, 102 S Nelson \nSubject to change
URL:https://fscommunitytheatre.org/event/bod-meeting/2027-12-14/
CATEGORIES:Meetings
ATTACH;FMTTYPE=image/jpeg:https://fscommunitytheatre.org/wp-content/uploads/2020/06/FSCThdr_centered.jpg
END:VEVENT
BEGIN:VEVENT
DTSTART;TZID=America/Chicago:20280111T171500
DTEND;TZID=America/Chicago:20280111T180000
DTSTAMP:20260416T095659
CREATED:20250913T185438Z
LAST-MODIFIED:20250913T185438Z
UID:10001064-1831223700-1831226400@fscommunitytheatre.org
SUMMARY:FSCT Board of Directors Meeting
DESCRIPTION:The Fort Stockton Community Theatre Board of Directors meets the second Tuesday monthly in the FMH Hall at the Nelson Street Theatre\, 102 S Nelson \nSubject to change
URL:https://fscommunitytheatre.org/event/bod-meeting/2028-01-11/
CATEGORIES:Meetings
ATTACH;FMTTYPE=image/jpeg:https://fscommunitytheatre.org/wp-content/uploads/2020/06/FSCThdr_centered.jpg
END:VEVENT
BEGIN:VEVENT
DTSTART;TZID=America/Chicago:20280208T171500
DTEND;TZID=America/Chicago:20280208T180000
DTSTAMP:20260416T095659
CREATED:20250913T185438Z
LAST-MODIFIED:20250913T185438Z
UID:10001065-1833642900-1833645600@fscommunitytheatre.org
SUMMARY:FSCT Board of Directors Meeting
DESCRIPTION:The Fort Stockton Community Theatre Board of Directors meets the second Tuesday monthly in the FMH Hall at the Nelson Street Theatre\, 102 S Nelson \nSubject to change
URL:https://fscommunitytheatre.org/event/bod-meeting/2028-02-08/
CATEGORIES:Meetings
ATTACH;FMTTYPE=image/jpeg:https://fscommunitytheatre.org/wp-content/uploads/2020/06/FSCThdr_centered.jpg
END:VEVENT
BEGIN:VEVENT
DTSTART;TZID=America/Chicago:20280314T171500
DTEND;TZID=America/Chicago:20280314T180000
DTSTAMP:20260416T095659
CREATED:20250913T185438Z
LAST-MODIFIED:20250913T185438Z
UID:10001066-1836666900-1836669600@fscommunitytheatre.org
SUMMARY:FSCT Board of Directors Meeting
DESCRIPTION:The Fort Stockton Community Theatre Board of Directors meets the second Tuesday monthly in the FMH Hall at the Nelson Street Theatre\, 102 S Nelson \nSubject to change
URL:https://fscommunitytheatre.org/event/bod-meeting/2028-03-14/
CATEGORIES:Meetings
ATTACH;FMTTYPE=image/jpeg:https://fscommunitytheatre.org/wp-content/uploads/2020/06/FSCThdr_centered.jpg
END:VEVENT
BEGIN:VEVENT
DTSTART;TZID=America/Chicago:20280411T171500
DTEND;TZID=America/Chicago:20280411T180000
DTSTAMP:20260416T095659
CREATED:20250913T185438Z
LAST-MODIFIED:20250913T185438Z
UID:10001067-1839086100-1839088800@fscommunitytheatre.org
SUMMARY:FSCT Board of Directors Meeting
DESCRIPTION:The Fort Stockton Community Theatre Board of Directors meets the second Tuesday monthly in the FMH Hall at the Nelson Street Theatre\, 102 S Nelson \nSubject to change
URL:https://fscommunitytheatre.org/event/bod-meeting/2028-04-11/
CATEGORIES:Meetings
ATTACH;FMTTYPE=image/jpeg:https://fscommunitytheatre.org/wp-content/uploads/2020/06/FSCThdr_centered.jpg
END:VEVENT
BEGIN:VEVENT
DTSTART;TZID=America/Chicago:20280509T171500
DTEND;TZID=America/Chicago:20280509T180000
DTSTAMP:20260416T095659
CREATED:20250913T185438Z
LAST-MODIFIED:20250913T185438Z
UID:10001068-1841505300-1841508000@fscommunitytheatre.org
SUMMARY:FSCT Board of Directors Meeting
DESCRIPTION:The Fort Stockton Community Theatre Board of Directors meets the second Tuesday monthly in the FMH Hall at the Nelson Street Theatre\, 102 S Nelson \nSubject to change
URL:https://fscommunitytheatre.org/event/bod-meeting/2028-05-09/
CATEGORIES:Meetings
ATTACH;FMTTYPE=image/jpeg:https://fscommunitytheatre.org/wp-content/uploads/2020/06/FSCThdr_centered.jpg
END:VEVENT
BEGIN:VEVENT
DTSTART;TZID=America/Chicago:20280613T171500
DTEND;TZID=America/Chicago:20280613T180000
DTSTAMP:20260416T095659
CREATED:20250913T185438Z
LAST-MODIFIED:20250913T185438Z
UID:10001069-1844529300-1844532000@fscommunitytheatre.org
SUMMARY:FSCT Board of Directors Meeting
DESCRIPTION:The Fort Stockton Community Theatre Board of Directors meets the second Tuesday monthly in the FMH Hall at the Nelson Street Theatre\, 102 S Nelson \nSubject to change
URL:https://fscommunitytheatre.org/event/bod-meeting/2028-06-13/
CATEGORIES:Meetings
ATTACH;FMTTYPE=image/jpeg:https://fscommunitytheatre.org/wp-content/uploads/2020/06/FSCThdr_centered.jpg
END:VEVENT
BEGIN:VEVENT
DTSTART;TZID=America/Chicago:20280711T171500
DTEND;TZID=America/Chicago:20280711T180000
DTSTAMP:20260416T095659
CREATED:20250913T185438Z
LAST-MODIFIED:20250913T185438Z
UID:10001070-1846948500-1846951200@fscommunitytheatre.org
SUMMARY:FSCT Board of Directors Meeting
DESCRIPTION:The Fort Stockton Community Theatre Board of Directors meets the second Tuesday monthly in the FMH Hall at the Nelson Street Theatre\, 102 S Nelson \nSubject to change
URL:https://fscommunitytheatre.org/event/bod-meeting/2028-07-11/
CATEGORIES:Meetings
ATTACH;FMTTYPE=image/jpeg:https://fscommunitytheatre.org/wp-content/uploads/2020/06/FSCThdr_centered.jpg
END:VEVENT
BEGIN:VEVENT
DTSTART;TZID=America/Chicago:20280808T171500
DTEND;TZID=America/Chicago:20280808T180000
DTSTAMP:20260416T095659
CREATED:20250913T185438Z
LAST-MODIFIED:20250913T185438Z
UID:10001071-1849367700-1849370400@fscommunitytheatre.org
SUMMARY:FSCT Board of Directors Meeting
DESCRIPTION:The Fort Stockton Community Theatre Board of Directors meets the second Tuesday monthly in the FMH Hall at the Nelson Street Theatre\, 102 S Nelson \nSubject to change
URL:https://fscommunitytheatre.org/event/bod-meeting/2028-08-08/
CATEGORIES:Meetings
ATTACH;FMTTYPE=image/jpeg:https://fscommunitytheatre.org/wp-content/uploads/2020/06/FSCThdr_centered.jpg
END:VEVENT
BEGIN:VEVENT
DTSTART;TZID=America/Chicago:20280912T171500
DTEND;TZID=America/Chicago:20280912T180000
DTSTAMP:20260416T095659
CREATED:20250913T185438Z
LAST-MODIFIED:20250913T185438Z
UID:10001072-1852391700-1852394400@fscommunitytheatre.org
SUMMARY:FSCT Board of Directors Meeting
DESCRIPTION:The Fort Stockton Community Theatre Board of Directors meets the second Tuesday monthly in the FMH Hall at the Nelson Street Theatre\, 102 S Nelson \nSubject to change
URL:https://fscommunitytheatre.org/event/bod-meeting/2028-09-12/
CATEGORIES:Meetings
ATTACH;FMTTYPE=image/jpeg:https://fscommunitytheatre.org/wp-content/uploads/2020/06/FSCThdr_centered.jpg
END:VEVENT
BEGIN:VEVENT
DTSTART;TZID=America/Chicago:20281010T171500
DTEND;TZID=America/Chicago:20281010T180000
DTSTAMP:20260416T095659
CREATED:20250913T185438Z
LAST-MODIFIED:20250913T185438Z
UID:10001073-1854810900-1854813600@fscommunitytheatre.org
SUMMARY:FSCT Board of Directors Meeting
DESCRIPTION:The Fort Stockton Community Theatre Board of Directors meets the second Tuesday monthly in the FMH Hall at the Nelson Street Theatre\, 102 S Nelson \nSubject to change
URL:https://fscommunitytheatre.org/event/bod-meeting/2028-10-10/
CATEGORIES:Meetings
ATTACH;FMTTYPE=image/jpeg:https://fscommunitytheatre.org/wp-content/uploads/2020/06/FSCThdr_centered.jpg
END:VEVENT
BEGIN:VEVENT
DTSTART;TZID=America/Chicago:20281114T171500
DTEND;TZID=America/Chicago:20281114T180000
DTSTAMP:20260416T095659
CREATED:20250913T185438Z
LAST-MODIFIED:20250913T185438Z
UID:10001074-1857834900-1857837600@fscommunitytheatre.org
SUMMARY:FSCT Board of Directors Meeting
DESCRIPTION:The Fort Stockton Community Theatre Board of Directors meets the second Tuesday monthly in the FMH Hall at the Nelson Street Theatre\, 102 S Nelson \nSubject to change
URL:https://fscommunitytheatre.org/event/bod-meeting/2028-11-14/
CATEGORIES:Meetings
ATTACH;FMTTYPE=image/jpeg:https://fscommunitytheatre.org/wp-content/uploads/2020/06/FSCThdr_centered.jpg
END:VEVENT
BEGIN:VEVENT
DTSTART;TZID=America/Chicago:20281212T171500
DTEND;TZID=America/Chicago:20281212T180000
DTSTAMP:20260416T095659
CREATED:20250913T185438Z
LAST-MODIFIED:20250913T185438Z
UID:10001075-1860254100-1860256800@fscommunitytheatre.org
SUMMARY:FSCT Board of Directors Meeting
DESCRIPTION:The Fort Stockton Community Theatre Board of Directors meets the second Tuesday monthly in the FMH Hall at the Nelson Street Theatre\, 102 S Nelson \nSubject to change
URL:https://fscommunitytheatre.org/event/bod-meeting/2028-12-12/
CATEGORIES:Meetings
ATTACH;FMTTYPE=image/jpeg:https://fscommunitytheatre.org/wp-content/uploads/2020/06/FSCThdr_centered.jpg
END:VEVENT
BEGIN:VEVENT
DTSTART;TZID=America/Chicago:20290109T171500
DTEND;TZID=America/Chicago:20290109T180000
DTSTAMP:20260416T095659
CREATED:20250913T185438Z
LAST-MODIFIED:20250913T185438Z
UID:10001076-1862673300-1862676000@fscommunitytheatre.org
SUMMARY:FSCT Board of Directors Meeting
DESCRIPTION:The Fort Stockton Community Theatre Board of Directors meets the second Tuesday monthly in the FMH Hall at the Nelson Street Theatre\, 102 S Nelson \nSubject to change
URL:https://fscommunitytheatre.org/event/bod-meeting/2029-01-09/
CATEGORIES:Meetings
ATTACH;FMTTYPE=image/jpeg:https://fscommunitytheatre.org/wp-content/uploads/2020/06/FSCThdr_centered.jpg
END:VEVENT
BEGIN:VEVENT
DTSTART;TZID=America/Chicago:20290213T171500
DTEND;TZID=America/Chicago:20290213T180000
DTSTAMP:20260416T095659
CREATED:20250913T185438Z
LAST-MODIFIED:20250913T185438Z
UID:10001077-1865697300-1865700000@fscommunitytheatre.org
SUMMARY:FSCT Board of Directors Meeting
DESCRIPTION:The Fort Stockton Community Theatre Board of Directors meets the second Tuesday monthly in the FMH Hall at the Nelson Street Theatre\, 102 S Nelson \nSubject to change
URL:https://fscommunitytheatre.org/event/bod-meeting/2029-02-13/
CATEGORIES:Meetings
ATTACH;FMTTYPE=image/jpeg:https://fscommunitytheatre.org/wp-content/uploads/2020/06/FSCThdr_centered.jpg
END:VEVENT
BEGIN:VEVENT
DTSTART;TZID=America/Chicago:20290313T171500
DTEND;TZID=America/Chicago:20290313T180000
DTSTAMP:20260416T095659
CREATED:20250913T185438Z
LAST-MODIFIED:20250913T185438Z
UID:10001078-1868116500-1868119200@fscommunitytheatre.org
SUMMARY:FSCT Board of Directors Meeting
DESCRIPTION:The Fort Stockton Community Theatre Board of Directors meets the second Tuesday monthly in the FMH Hall at the Nelson Street Theatre\, 102 S Nelson \nSubject to change
URL:https://fscommunitytheatre.org/event/bod-meeting/2029-03-13/
CATEGORIES:Meetings
ATTACH;FMTTYPE=image/jpeg:https://fscommunitytheatre.org/wp-content/uploads/2020/06/FSCThdr_centered.jpg
END:VEVENT
BEGIN:VEVENT
DTSTART;TZID=America/Chicago:20290410T171500
DTEND;TZID=America/Chicago:20290410T180000
DTSTAMP:20260416T095659
CREATED:20250913T185438Z
LAST-MODIFIED:20250913T185438Z
UID:10001079-1870535700-1870538400@fscommunitytheatre.org
SUMMARY:FSCT Board of Directors Meeting
DESCRIPTION:The Fort Stockton Community Theatre Board of Directors meets the second Tuesday monthly in the FMH Hall at the Nelson Street Theatre\, 102 S Nelson \nSubject to change
URL:https://fscommunitytheatre.org/event/bod-meeting/2029-04-10/
CATEGORIES:Meetings
ATTACH;FMTTYPE=image/jpeg:https://fscommunitytheatre.org/wp-content/uploads/2020/06/FSCThdr_centered.jpg
END:VEVENT
BEGIN:VEVENT
DTSTART;TZID=America/Chicago:20290508T171500
DTEND;TZID=America/Chicago:20290508T180000
DTSTAMP:20260416T095659
CREATED:20250913T185438Z
LAST-MODIFIED:20250913T185438Z
UID:10001080-1872954900-1872957600@fscommunitytheatre.org
SUMMARY:FSCT Board of Directors Meeting
DESCRIPTION:The Fort Stockton Community Theatre Board of Directors meets the second Tuesday monthly in the FMH Hall at the Nelson Street Theatre\, 102 S Nelson \nSubject to change
URL:https://fscommunitytheatre.org/event/bod-meeting/2029-05-08/
CATEGORIES:Meetings
ATTACH;FMTTYPE=image/jpeg:https://fscommunitytheatre.org/wp-content/uploads/2020/06/FSCThdr_centered.jpg
END:VEVENT
BEGIN:VEVENT
DTSTART;TZID=America/Chicago:20290612T171500
DTEND;TZID=America/Chicago:20290612T180000
DTSTAMP:20260416T095659
CREATED:20250913T185438Z
LAST-MODIFIED:20250913T185438Z
UID:10001081-1875978900-1875981600@fscommunitytheatre.org
SUMMARY:FSCT Board of Directors Meeting
DESCRIPTION:The Fort Stockton Community Theatre Board of Directors meets the second Tuesday monthly in the FMH Hall at the Nelson Street Theatre\, 102 S Nelson \nSubject to change
URL:https://fscommunitytheatre.org/event/bod-meeting/2029-06-12/
CATEGORIES:Meetings
ATTACH;FMTTYPE=image/jpeg:https://fscommunitytheatre.org/wp-content/uploads/2020/06/FSCThdr_centered.jpg
END:VEVENT
BEGIN:VEVENT
DTSTART;TZID=America/Chicago:20290710T171500
DTEND;TZID=America/Chicago:20290710T180000
DTSTAMP:20260416T095659
CREATED:20250913T185438Z
LAST-MODIFIED:20250913T185438Z
UID:10001082-1878398100-1878400800@fscommunitytheatre.org
SUMMARY:FSCT Board of Directors Meeting
DESCRIPTION:The Fort Stockton Community Theatre Board of Directors meets the second Tuesday monthly in the FMH Hall at the Nelson Street Theatre\, 102 S Nelson \nSubject to change
URL:https://fscommunitytheatre.org/event/bod-meeting/2029-07-10/
CATEGORIES:Meetings
ATTACH;FMTTYPE=image/jpeg:https://fscommunitytheatre.org/wp-content/uploads/2020/06/FSCThdr_centered.jpg
END:VEVENT
BEGIN:VEVENT
DTSTART;TZID=America/Chicago:20290814T171500
DTEND;TZID=America/Chicago:20290814T180000
DTSTAMP:20260416T095659
CREATED:20250913T185438Z
LAST-MODIFIED:20250913T185438Z
UID:10001083-1881422100-1881424800@fscommunitytheatre.org
SUMMARY:FSCT Board of Directors Meeting
DESCRIPTION:The Fort Stockton Community Theatre Board of Directors meets the second Tuesday monthly in the FMH Hall at the Nelson Street Theatre\, 102 S Nelson \nSubject to change
URL:https://fscommunitytheatre.org/event/bod-meeting/2029-08-14/
CATEGORIES:Meetings
ATTACH;FMTTYPE=image/jpeg:https://fscommunitytheatre.org/wp-content/uploads/2020/06/FSCThdr_centered.jpg
END:VEVENT
BEGIN:VEVENT
DTSTART;TZID=America/Chicago:20290911T171500
DTEND;TZID=America/Chicago:20290911T180000
DTSTAMP:20260416T095659
CREATED:20250913T185438Z
LAST-MODIFIED:20250913T185438Z
UID:10001084-1883841300-1883844000@fscommunitytheatre.org
SUMMARY:FSCT Board of Directors Meeting
DESCRIPTION:The Fort Stockton Community Theatre Board of Directors meets the second Tuesday monthly in the FMH Hall at the Nelson Street Theatre\, 102 S Nelson \nSubject to change
URL:https://fscommunitytheatre.org/event/bod-meeting/2029-09-11/
CATEGORIES:Meetings
ATTACH;FMTTYPE=image/jpeg:https://fscommunitytheatre.org/wp-content/uploads/2020/06/FSCThdr_centered.jpg
END:VEVENT
BEGIN:VEVENT
DTSTART;TZID=America/Chicago:20291009T171500
DTEND;TZID=America/Chicago:20291009T180000
DTSTAMP:20260416T095659
CREATED:20250913T185438Z
LAST-MODIFIED:20250913T185438Z
UID:10001085-1886260500-1886263200@fscommunitytheatre.org
SUMMARY:FSCT Board of Directors Meeting
DESCRIPTION:The Fort Stockton Community Theatre Board of Directors meets the second Tuesday monthly in the FMH Hall at the Nelson Street Theatre\, 102 S Nelson \nSubject to change
URL:https://fscommunitytheatre.org/event/bod-meeting/2029-10-09/
CATEGORIES:Meetings
ATTACH;FMTTYPE=image/jpeg:https://fscommunitytheatre.org/wp-content/uploads/2020/06/FSCThdr_centered.jpg
END:VEVENT
BEGIN:VEVENT
DTSTART;TZID=America/Chicago:20291113T171500
DTEND;TZID=America/Chicago:20291113T180000
DTSTAMP:20260416T095659
CREATED:20250913T185438Z
LAST-MODIFIED:20250913T185438Z
UID:10001086-1889284500-1889287200@fscommunitytheatre.org
SUMMARY:FSCT Board of Directors Meeting
DESCRIPTION:The Fort Stockton Community Theatre Board of Directors meets the second Tuesday monthly in the FMH Hall at the Nelson Street Theatre\, 102 S Nelson \nSubject to change
URL:https://fscommunitytheatre.org/event/bod-meeting/2029-11-13/
CATEGORIES:Meetings
ATTACH;FMTTYPE=image/jpeg:https://fscommunitytheatre.org/wp-content/uploads/2020/06/FSCThdr_centered.jpg
END:VEVENT
BEGIN:VEVENT
DTSTART;TZID=America/Chicago:20291211T171500
DTEND;TZID=America/Chicago:20291211T180000
DTSTAMP:20260416T095659
CREATED:20250913T185438Z
LAST-MODIFIED:20250913T185438Z
UID:10001087-1891703700-1891706400@fscommunitytheatre.org
SUMMARY:FSCT Board of Directors Meeting
DESCRIPTION:The Fort Stockton Community Theatre Board of Directors meets the second Tuesday monthly in the FMH Hall at the Nelson Street Theatre\, 102 S Nelson \nSubject to change
URL:https://fscommunitytheatre.org/event/bod-meeting/2029-12-11/
CATEGORIES:Meetings
ATTACH;FMTTYPE=image/jpeg:https://fscommunitytheatre.org/wp-content/uploads/2020/06/FSCThdr_centered.jpg
END:VEVENT
BEGIN:VEVENT
DTSTART;TZID=America/Chicago:20300108T171500
DTEND;TZID=America/Chicago:20300108T180000
DTSTAMP:20260416T095659
CREATED:20250913T185438Z
LAST-MODIFIED:20250913T185438Z
UID:10001088-1894122900-1894125600@fscommunitytheatre.org
SUMMARY:FSCT Board of Directors Meeting
DESCRIPTION:The Fort Stockton Community Theatre Board of Directors meets the second Tuesday monthly in the FMH Hall at the Nelson Street Theatre\, 102 S Nelson \nSubject to change
URL:https://fscommunitytheatre.org/event/bod-meeting/2030-01-08/
CATEGORIES:Meetings
ATTACH;FMTTYPE=image/jpeg:https://fscommunitytheatre.org/wp-content/uploads/2020/06/FSCThdr_centered.jpg
END:VEVENT
BEGIN:VEVENT
DTSTART;TZID=America/Chicago:20300212T171500
DTEND;TZID=America/Chicago:20300212T180000
DTSTAMP:20260416T095659
CREATED:20250913T185438Z
LAST-MODIFIED:20250913T185438Z
UID:10001089-1897146900-1897149600@fscommunitytheatre.org
SUMMARY:FSCT Board of Directors Meeting
DESCRIPTION:The Fort Stockton Community Theatre Board of Directors meets the second Tuesday monthly in the FMH Hall at the Nelson Street Theatre\, 102 S Nelson \nSubject to change
URL:https://fscommunitytheatre.org/event/bod-meeting/2030-02-12/
CATEGORIES:Meetings
ATTACH;FMTTYPE=image/jpeg:https://fscommunitytheatre.org/wp-content/uploads/2020/06/FSCThdr_centered.jpg
END:VEVENT
BEGIN:VEVENT
DTSTART;TZID=America/Chicago:20300312T171500
DTEND;TZID=America/Chicago:20300312T180000
DTSTAMP:20260416T095659
CREATED:20250913T185438Z
LAST-MODIFIED:20250913T185438Z
UID:10001090-1899566100-1899568800@fscommunitytheatre.org
SUMMARY:FSCT Board of Directors Meeting
DESCRIPTION:The Fort Stockton Community Theatre Board of Directors meets the second Tuesday monthly in the FMH Hall at the Nelson Street Theatre\, 102 S Nelson \nSubject to change
URL:https://fscommunitytheatre.org/event/bod-meeting/2030-03-12/
CATEGORIES:Meetings
ATTACH;FMTTYPE=image/jpeg:https://fscommunitytheatre.org/wp-content/uploads/2020/06/FSCThdr_centered.jpg
END:VEVENT
BEGIN:VEVENT
DTSTART;TZID=America/Chicago:20300409T171500
DTEND;TZID=America/Chicago:20300409T180000
DTSTAMP:20260416T095659
CREATED:20250913T185438Z
LAST-MODIFIED:20250913T185438Z
UID:10001091-1901985300-1901988000@fscommunitytheatre.org
SUMMARY:FSCT Board of Directors Meeting
DESCRIPTION:The Fort Stockton Community Theatre Board of Directors meets the second Tuesday monthly in the FMH Hall at the Nelson Street Theatre\, 102 S Nelson \nSubject to change
URL:https://fscommunitytheatre.org/event/bod-meeting/2030-04-09/
CATEGORIES:Meetings
ATTACH;FMTTYPE=image/jpeg:https://fscommunitytheatre.org/wp-content/uploads/2020/06/FSCThdr_centered.jpg
END:VEVENT
BEGIN:VEVENT
DTSTART;TZID=America/Chicago:20300514T171500
DTEND;TZID=America/Chicago:20300514T180000
DTSTAMP:20260416T095659
CREATED:20250913T185438Z
LAST-MODIFIED:20250913T185438Z
UID:10001092-1905009300-1905012000@fscommunitytheatre.org
SUMMARY:FSCT Board of Directors Meeting
DESCRIPTION:The Fort Stockton Community Theatre Board of Directors meets the second Tuesday monthly in the FMH Hall at the Nelson Street Theatre\, 102 S Nelson \nSubject to change
URL:https://fscommunitytheatre.org/event/bod-meeting/2030-05-14/
CATEGORIES:Meetings
ATTACH;FMTTYPE=image/jpeg:https://fscommunitytheatre.org/wp-content/uploads/2020/06/FSCThdr_centered.jpg
END:VEVENT
END:VCALENDAR