BEGIN:VCALENDAR
VERSION:2.0
PRODID:-//Fort Stockton Community Theatre - ECPv6.15.20//NONSGML v1.0//EN
CALSCALE:GREGORIAN
METHOD:PUBLISH
X-ORIGINAL-URL:https://fscommunitytheatre.org
X-WR-CALDESC:Events for Fort Stockton Community Theatre
REFRESH-INTERVAL;VALUE=DURATION:PT1H
X-Robots-Tag:noindex
X-PUBLISHED-TTL:PT1H
BEGIN:VTIMEZONE
TZID:America/Chicago
BEGIN:DAYLIGHT
TZOFFSETFROM:-0600
TZOFFSETTO:-0500
TZNAME:CDT
DTSTART:20240310T080000
END:DAYLIGHT
BEGIN:STANDARD
TZOFFSETFROM:-0500
TZOFFSETTO:-0600
TZNAME:CST
DTSTART:20241103T070000
END:STANDARD
BEGIN:DAYLIGHT
TZOFFSETFROM:-0600
TZOFFSETTO:-0500
TZNAME:CDT
DTSTART:20250309T080000
END:DAYLIGHT
BEGIN:STANDARD
TZOFFSETFROM:-0500
TZOFFSETTO:-0600
TZNAME:CST
DTSTART:20251102T070000
END:STANDARD
BEGIN:DAYLIGHT
TZOFFSETFROM:-0600
TZOFFSETTO:-0500
TZNAME:CDT
DTSTART:20260308T080000
END:DAYLIGHT
BEGIN:STANDARD
TZOFFSETFROM:-0500
TZOFFSETTO:-0600
TZNAME:CST
DTSTART:20261101T070000
END:STANDARD
END:VTIMEZONE
BEGIN:VEVENT
DTSTART;TZID=America/Chicago:20250913T190000
DTEND;TZID=America/Chicago:20250913T210000
DTSTAMP:20260419T163126
CREATED:20250707T135350Z
LAST-MODIFIED:20250913T214312Z
UID:10000633-1757790000-1757797200@fscommunitytheatre.org
SUMMARY:BARRIO FEST – LIVE THEATRE @ FSCT
DESCRIPTION:BARRIO FEST – LIVE THEATRE @ FSCT \nSaturday\, September 13th – 7:00-9:00 p.m. \nI’ll Remember for You (Yo Me Acuerdo Por Ti): A Caregiver’s Story \nWritten by Lisa Suarez; performed by Sirena Productions (Corpus Christi\, TX) \nI’ll Remember for You explores the challenges and emotional impact of caring for someone with Alzheimer’s\, including the frustration of circular conversations and the fear of losing one’s own memory.  Set on the Southside of San Antonio\, this heartfelt one-woman show follows a middle-aged Latina caring for her mother with Alzheimer’s. Blending humor and heartbreak\, it explores the complexities of mother-daughter relationships\, cultural expectations\, and the emotional weight of caregiving in the Latino community. A moving story of love\, memory\, and the ties that connect us all.
URL:https://fscommunitytheatre.org/event/barrio-fest-live-theatre-fsct/
LOCATION:Nelson Street Theatre\, 102 S Nelson St\, Fort Stockton\, TX\, 79735
CATEGORIES:Performances
ATTACH;FMTTYPE=image/jpeg:https://fscommunitytheatre.org/wp-content/uploads/2025/07/Barrio-Fest-Logo-COPYRIGHT.jpg
ORGANIZER;CN="Fort Stockton Community Theatre":MAILTO:info@fscommunitytheatre.org
GEO:30.885307131159;-102.88051864522
X-APPLE-STRUCTURED-LOCATION;VALUE=URI;X-ADDRESS=Nelson Street Theatre 102 S Nelson St Fort Stockton TX 79735;X-APPLE-RADIUS=500;X-TITLE=102 S Nelson St:geo:-102.88051864522,30.885307131159
END:VEVENT
BEGIN:VEVENT
DTSTART;VALUE=DATE:20250912
DTEND;VALUE=DATE:20250915
DTSTAMP:20260419T163126
CREATED:20250707T141045Z
LAST-MODIFIED:20250913T200744Z
UID:10000637-1757635200-1757894399@fscommunitytheatre.org
SUMMARY:BARRIO FEST IV
DESCRIPTION:BARRIO FEST IV will be Friday – Sunday\, September 12-14\, 2025 \nFestivities will include an educational morning for 3rd graders\, the Stakitas Car Show\, performances by Ballet Folklorico (St. Edward’s University)\, and a live theatre performance by Sirena Productions (Corpus Christi\, TX). Other activities include an adobe workshop\, baseball games\, music by Tejano Mix DJ\, and MORE – \nEvent sponsors needed! \n  \nFor more information\, contact Alice Duerksen\, Emilie Feyry\, J.B. Gallegos\, Ruben Gonzales\, Olga Gonzalez\, Andres Madrid\, Isai Rojas\, or Staci Schoenfeldt. \n  \nhttps://texasbarriofest.com
URL:https://fscommunitytheatre.org/event/barrio-fest-iv/
CATEGORIES:Other
ATTACH;FMTTYPE=image/jpeg:https://fscommunitytheatre.org/wp-content/uploads/2025/07/Barrio-Fest-Logo-COPYRIGHT.jpg
END:VEVENT
BEGIN:VEVENT
DTSTART;TZID=America/Chicago:20250909T171500
DTEND;TZID=America/Chicago:20250909T180000
DTSTAMP:20260419T163126
CREATED:20250913T185438Z
LAST-MODIFIED:20250913T185438Z
UID:10001036-1757438100-1757440800@fscommunitytheatre.org
SUMMARY:FSCT Board of Directors Meeting
DESCRIPTION:The Fort Stockton Community Theatre Board of Directors meets the second Tuesday monthly in the FMH Hall at the Nelson Street Theatre\, 102 S Nelson \nSubject to change
URL:https://fscommunitytheatre.org/event/bod-meeting/2025-09-09/
CATEGORIES:Meetings
ATTACH;FMTTYPE=image/jpeg:https://fscommunitytheatre.org/wp-content/uploads/2020/06/FSCThdr_centered.jpg
END:VEVENT
BEGIN:VEVENT
DTSTART;TZID=America/Chicago:20250906T160000
DTEND;TZID=America/Chicago:20250906T180000
DTSTAMP:20260419T163126
CREATED:20250703T145656Z
LAST-MODIFIED:20250709T102943Z
UID:10000568-1757174400-1757181600@fscommunitytheatre.org
SUMMARY:Film Screening: Westward the Women
DESCRIPTION:FREE CLASSIC MOVIES THANKS TO FORT STOCKTON FILM SOCIETY AND THE REA CHARITABLE TRUST \n\n\n\nNext screening: September 6 – Westward the WomenFort Stockton Community Theatre\, 102 S Nelson St – 4 pm Doors open at 6:30 FREE ADMISSION \n\n\n\nUpcoming screenings:October 4 – Dial M for Murder November 15 – Sergeant York
URL:https://fscommunitytheatre.org/event/film-screening-westward-the-women/
CATEGORIES:Other
ATTACH;FMTTYPE=image/png:https://fscommunitytheatre.org/wp-content/uploads/2021/10/FSFS-lg.png
ORGANIZER;CN="Fort Stockton Community Theatre":MAILTO:info@fscommunitytheatre.org
END:VEVENT
BEGIN:VEVENT
DTSTART;TZID=America/Chicago:20250812T171500
DTEND;TZID=America/Chicago:20250812T180000
DTSTAMP:20260419T163126
CREATED:20250913T185438Z
LAST-MODIFIED:20250913T185438Z
UID:10001035-1755018900-1755021600@fscommunitytheatre.org
SUMMARY:FSCT Board of Directors Meeting
DESCRIPTION:The Fort Stockton Community Theatre Board of Directors meets the second Tuesday monthly in the FMH Hall at the Nelson Street Theatre\, 102 S Nelson \nSubject to change
URL:https://fscommunitytheatre.org/event/bod-meeting/2025-08-12/
CATEGORIES:Meetings
ATTACH;FMTTYPE=image/jpeg:https://fscommunitytheatre.org/wp-content/uploads/2020/06/FSCThdr_centered.jpg
END:VEVENT
END:VCALENDAR