BEGIN:VCALENDAR
VERSION:2.0
PRODID:-//Fort Stockton Community Theatre - ECPv6.15.20//NONSGML v1.0//EN
CALSCALE:GREGORIAN
METHOD:PUBLISH
X-WR-CALNAME:Fort Stockton Community Theatre
X-ORIGINAL-URL:https://fscommunitytheatre.org
X-WR-CALDESC:Events for Fort Stockton Community Theatre
REFRESH-INTERVAL;VALUE=DURATION:PT1H
X-Robots-Tag:noindex
X-PUBLISHED-TTL:PT1H
BEGIN:VTIMEZONE
TZID:America/Chicago
BEGIN:DAYLIGHT
TZOFFSETFROM:-0600
TZOFFSETTO:-0500
TZNAME:CDT
DTSTART:20250309T080000
END:DAYLIGHT
BEGIN:STANDARD
TZOFFSETFROM:-0500
TZOFFSETTO:-0600
TZNAME:CST
DTSTART:20251102T070000
END:STANDARD
BEGIN:DAYLIGHT
TZOFFSETFROM:-0600
TZOFFSETTO:-0500
TZNAME:CDT
DTSTART:20260308T080000
END:DAYLIGHT
BEGIN:STANDARD
TZOFFSETFROM:-0500
TZOFFSETTO:-0600
TZNAME:CST
DTSTART:20261101T070000
END:STANDARD
BEGIN:DAYLIGHT
TZOFFSETFROM:-0600
TZOFFSETTO:-0500
TZNAME:CDT
DTSTART:20270314T080000
END:DAYLIGHT
BEGIN:STANDARD
TZOFFSETFROM:-0500
TZOFFSETTO:-0600
TZNAME:CST
DTSTART:20271107T070000
END:STANDARD
BEGIN:DAYLIGHT
TZOFFSETFROM:-0600
TZOFFSETTO:-0500
TZNAME:CDT
DTSTART:20280312T080000
END:DAYLIGHT
BEGIN:STANDARD
TZOFFSETFROM:-0500
TZOFFSETTO:-0600
TZNAME:CST
DTSTART:20281105T070000
END:STANDARD
BEGIN:DAYLIGHT
TZOFFSETFROM:-0600
TZOFFSETTO:-0500
TZNAME:CDT
DTSTART:20290311T080000
END:DAYLIGHT
BEGIN:STANDARD
TZOFFSETFROM:-0500
TZOFFSETTO:-0600
TZNAME:CST
DTSTART:20291104T070000
END:STANDARD
END:VTIMEZONE
BEGIN:VEVENT
DTSTART;TZID=America/Chicago:20280411T171500
DTEND;TZID=America/Chicago:20280411T180000
DTSTAMP:20260422T172642
CREATED:20250913T185438Z
LAST-MODIFIED:20250913T185438Z
UID:10001067-1839086100-1839088800@fscommunitytheatre.org
SUMMARY:FSCT Board of Directors Meeting
DESCRIPTION:The Fort Stockton Community Theatre Board of Directors meets the second Tuesday monthly in the FMH Hall at the Nelson Street Theatre\, 102 S Nelson \nSubject to change
URL:https://fscommunitytheatre.org/event/bod-meeting/2028-04-11/
CATEGORIES:Meetings
ATTACH;FMTTYPE=image/jpeg:https://fscommunitytheatre.org/wp-content/uploads/2020/06/FSCThdr_centered.jpg
END:VEVENT
BEGIN:VEVENT
DTSTART;TZID=America/Chicago:20280314T171500
DTEND;TZID=America/Chicago:20280314T180000
DTSTAMP:20260422T172642
CREATED:20250913T185438Z
LAST-MODIFIED:20250913T185438Z
UID:10001066-1836666900-1836669600@fscommunitytheatre.org
SUMMARY:FSCT Board of Directors Meeting
DESCRIPTION:The Fort Stockton Community Theatre Board of Directors meets the second Tuesday monthly in the FMH Hall at the Nelson Street Theatre\, 102 S Nelson \nSubject to change
URL:https://fscommunitytheatre.org/event/bod-meeting/2028-03-14/
CATEGORIES:Meetings
ATTACH;FMTTYPE=image/jpeg:https://fscommunitytheatre.org/wp-content/uploads/2020/06/FSCThdr_centered.jpg
END:VEVENT
BEGIN:VEVENT
DTSTART;TZID=America/Chicago:20280208T171500
DTEND;TZID=America/Chicago:20280208T180000
DTSTAMP:20260422T172642
CREATED:20250913T185438Z
LAST-MODIFIED:20250913T185438Z
UID:10001065-1833642900-1833645600@fscommunitytheatre.org
SUMMARY:FSCT Board of Directors Meeting
DESCRIPTION:The Fort Stockton Community Theatre Board of Directors meets the second Tuesday monthly in the FMH Hall at the Nelson Street Theatre\, 102 S Nelson \nSubject to change
URL:https://fscommunitytheatre.org/event/bod-meeting/2028-02-08/
CATEGORIES:Meetings
ATTACH;FMTTYPE=image/jpeg:https://fscommunitytheatre.org/wp-content/uploads/2020/06/FSCThdr_centered.jpg
END:VEVENT
BEGIN:VEVENT
DTSTART;TZID=America/Chicago:20280111T171500
DTEND;TZID=America/Chicago:20280111T180000
DTSTAMP:20260422T172642
CREATED:20250913T185438Z
LAST-MODIFIED:20250913T185438Z
UID:10001064-1831223700-1831226400@fscommunitytheatre.org
SUMMARY:FSCT Board of Directors Meeting
DESCRIPTION:The Fort Stockton Community Theatre Board of Directors meets the second Tuesday monthly in the FMH Hall at the Nelson Street Theatre\, 102 S Nelson \nSubject to change
URL:https://fscommunitytheatre.org/event/bod-meeting/2028-01-11/
CATEGORIES:Meetings
ATTACH;FMTTYPE=image/jpeg:https://fscommunitytheatre.org/wp-content/uploads/2020/06/FSCThdr_centered.jpg
END:VEVENT
BEGIN:VEVENT
DTSTART;TZID=America/Chicago:20271214T171500
DTEND;TZID=America/Chicago:20271214T180000
DTSTAMP:20260422T172642
CREATED:20250913T185438Z
LAST-MODIFIED:20250913T185438Z
UID:10001063-1828804500-1828807200@fscommunitytheatre.org
SUMMARY:FSCT Board of Directors Meeting
DESCRIPTION:The Fort Stockton Community Theatre Board of Directors meets the second Tuesday monthly in the FMH Hall at the Nelson Street Theatre\, 102 S Nelson \nSubject to change
URL:https://fscommunitytheatre.org/event/bod-meeting/2027-12-14/
CATEGORIES:Meetings
ATTACH;FMTTYPE=image/jpeg:https://fscommunitytheatre.org/wp-content/uploads/2020/06/FSCThdr_centered.jpg
END:VEVENT
BEGIN:VEVENT
DTSTART;TZID=America/Chicago:20271109T171500
DTEND;TZID=America/Chicago:20271109T180000
DTSTAMP:20260422T172642
CREATED:20250913T185438Z
LAST-MODIFIED:20250913T185438Z
UID:10001062-1825780500-1825783200@fscommunitytheatre.org
SUMMARY:FSCT Board of Directors Meeting
DESCRIPTION:The Fort Stockton Community Theatre Board of Directors meets the second Tuesday monthly in the FMH Hall at the Nelson Street Theatre\, 102 S Nelson \nSubject to change
URL:https://fscommunitytheatre.org/event/bod-meeting/2027-11-09/
CATEGORIES:Meetings
ATTACH;FMTTYPE=image/jpeg:https://fscommunitytheatre.org/wp-content/uploads/2020/06/FSCThdr_centered.jpg
END:VEVENT
BEGIN:VEVENT
DTSTART;TZID=America/Chicago:20271012T171500
DTEND;TZID=America/Chicago:20271012T180000
DTSTAMP:20260422T172642
CREATED:20250913T185438Z
LAST-MODIFIED:20250913T185438Z
UID:10001061-1823361300-1823364000@fscommunitytheatre.org
SUMMARY:FSCT Board of Directors Meeting
DESCRIPTION:The Fort Stockton Community Theatre Board of Directors meets the second Tuesday monthly in the FMH Hall at the Nelson Street Theatre\, 102 S Nelson \nSubject to change
URL:https://fscommunitytheatre.org/event/bod-meeting/2027-10-12/
CATEGORIES:Meetings
ATTACH;FMTTYPE=image/jpeg:https://fscommunitytheatre.org/wp-content/uploads/2020/06/FSCThdr_centered.jpg
END:VEVENT
BEGIN:VEVENT
DTSTART;TZID=America/Chicago:20270914T171500
DTEND;TZID=America/Chicago:20270914T180000
DTSTAMP:20260422T172642
CREATED:20250913T185438Z
LAST-MODIFIED:20250913T185438Z
UID:10001060-1820942100-1820944800@fscommunitytheatre.org
SUMMARY:FSCT Board of Directors Meeting
DESCRIPTION:The Fort Stockton Community Theatre Board of Directors meets the second Tuesday monthly in the FMH Hall at the Nelson Street Theatre\, 102 S Nelson \nSubject to change
URL:https://fscommunitytheatre.org/event/bod-meeting/2027-09-14/
CATEGORIES:Meetings
ATTACH;FMTTYPE=image/jpeg:https://fscommunitytheatre.org/wp-content/uploads/2020/06/FSCThdr_centered.jpg
END:VEVENT
BEGIN:VEVENT
DTSTART;TZID=America/Chicago:20270810T171500
DTEND;TZID=America/Chicago:20270810T180000
DTSTAMP:20260422T172642
CREATED:20250913T185438Z
LAST-MODIFIED:20250913T185438Z
UID:10001059-1817918100-1817920800@fscommunitytheatre.org
SUMMARY:FSCT Board of Directors Meeting
DESCRIPTION:The Fort Stockton Community Theatre Board of Directors meets the second Tuesday monthly in the FMH Hall at the Nelson Street Theatre\, 102 S Nelson \nSubject to change
URL:https://fscommunitytheatre.org/event/bod-meeting/2027-08-10/
CATEGORIES:Meetings
ATTACH;FMTTYPE=image/jpeg:https://fscommunitytheatre.org/wp-content/uploads/2020/06/FSCThdr_centered.jpg
END:VEVENT
BEGIN:VEVENT
DTSTART;TZID=America/Chicago:20270713T171500
DTEND;TZID=America/Chicago:20270713T180000
DTSTAMP:20260422T172642
CREATED:20250913T185438Z
LAST-MODIFIED:20250913T185438Z
UID:10001058-1815498900-1815501600@fscommunitytheatre.org
SUMMARY:FSCT Board of Directors Meeting
DESCRIPTION:The Fort Stockton Community Theatre Board of Directors meets the second Tuesday monthly in the FMH Hall at the Nelson Street Theatre\, 102 S Nelson \nSubject to change
URL:https://fscommunitytheatre.org/event/bod-meeting/2027-07-13/
CATEGORIES:Meetings
ATTACH;FMTTYPE=image/jpeg:https://fscommunitytheatre.org/wp-content/uploads/2020/06/FSCThdr_centered.jpg
END:VEVENT
BEGIN:VEVENT
DTSTART;TZID=America/Chicago:20270608T171500
DTEND;TZID=America/Chicago:20270608T180000
DTSTAMP:20260422T172642
CREATED:20250913T185438Z
LAST-MODIFIED:20250913T185438Z
UID:10001057-1812474900-1812477600@fscommunitytheatre.org
SUMMARY:FSCT Board of Directors Meeting
DESCRIPTION:The Fort Stockton Community Theatre Board of Directors meets the second Tuesday monthly in the FMH Hall at the Nelson Street Theatre\, 102 S Nelson \nSubject to change
URL:https://fscommunitytheatre.org/event/bod-meeting/2027-06-08/
CATEGORIES:Meetings
ATTACH;FMTTYPE=image/jpeg:https://fscommunitytheatre.org/wp-content/uploads/2020/06/FSCThdr_centered.jpg
END:VEVENT
BEGIN:VEVENT
DTSTART;TZID=America/Chicago:20270511T171500
DTEND;TZID=America/Chicago:20270511T180000
DTSTAMP:20260422T172642
CREATED:20250913T185438Z
LAST-MODIFIED:20250913T185438Z
UID:10001056-1810055700-1810058400@fscommunitytheatre.org
SUMMARY:FSCT Board of Directors Meeting
DESCRIPTION:The Fort Stockton Community Theatre Board of Directors meets the second Tuesday monthly in the FMH Hall at the Nelson Street Theatre\, 102 S Nelson \nSubject to change
URL:https://fscommunitytheatre.org/event/bod-meeting/2027-05-11/
CATEGORIES:Meetings
ATTACH;FMTTYPE=image/jpeg:https://fscommunitytheatre.org/wp-content/uploads/2020/06/FSCThdr_centered.jpg
END:VEVENT
BEGIN:VEVENT
DTSTART;TZID=America/Chicago:20270413T171500
DTEND;TZID=America/Chicago:20270413T180000
DTSTAMP:20260422T172642
CREATED:20250913T185438Z
LAST-MODIFIED:20250913T185438Z
UID:10001055-1807636500-1807639200@fscommunitytheatre.org
SUMMARY:FSCT Board of Directors Meeting
DESCRIPTION:The Fort Stockton Community Theatre Board of Directors meets the second Tuesday monthly in the FMH Hall at the Nelson Street Theatre\, 102 S Nelson \nSubject to change
URL:https://fscommunitytheatre.org/event/bod-meeting/2027-04-13/
CATEGORIES:Meetings
ATTACH;FMTTYPE=image/jpeg:https://fscommunitytheatre.org/wp-content/uploads/2020/06/FSCThdr_centered.jpg
END:VEVENT
BEGIN:VEVENT
DTSTART;TZID=America/Chicago:20270309T171500
DTEND;TZID=America/Chicago:20270309T180000
DTSTAMP:20260422T172642
CREATED:20250913T185438Z
LAST-MODIFIED:20250913T185438Z
UID:10001054-1804612500-1804615200@fscommunitytheatre.org
SUMMARY:FSCT Board of Directors Meeting
DESCRIPTION:The Fort Stockton Community Theatre Board of Directors meets the second Tuesday monthly in the FMH Hall at the Nelson Street Theatre\, 102 S Nelson \nSubject to change
URL:https://fscommunitytheatre.org/event/bod-meeting/2027-03-09/
CATEGORIES:Meetings
ATTACH;FMTTYPE=image/jpeg:https://fscommunitytheatre.org/wp-content/uploads/2020/06/FSCThdr_centered.jpg
END:VEVENT
BEGIN:VEVENT
DTSTART;TZID=America/Chicago:20270209T171500
DTEND;TZID=America/Chicago:20270209T180000
DTSTAMP:20260422T172642
CREATED:20250913T185438Z
LAST-MODIFIED:20250913T185438Z
UID:10001053-1802193300-1802196000@fscommunitytheatre.org
SUMMARY:FSCT Board of Directors Meeting
DESCRIPTION:The Fort Stockton Community Theatre Board of Directors meets the second Tuesday monthly in the FMH Hall at the Nelson Street Theatre\, 102 S Nelson \nSubject to change
URL:https://fscommunitytheatre.org/event/bod-meeting/2027-02-09/
CATEGORIES:Meetings
ATTACH;FMTTYPE=image/jpeg:https://fscommunitytheatre.org/wp-content/uploads/2020/06/FSCThdr_centered.jpg
END:VEVENT
BEGIN:VEVENT
DTSTART;TZID=America/Chicago:20270112T171500
DTEND;TZID=America/Chicago:20270112T180000
DTSTAMP:20260422T172642
CREATED:20250913T185438Z
LAST-MODIFIED:20250913T185438Z
UID:10001052-1799774100-1799776800@fscommunitytheatre.org
SUMMARY:FSCT Board of Directors Meeting
DESCRIPTION:The Fort Stockton Community Theatre Board of Directors meets the second Tuesday monthly in the FMH Hall at the Nelson Street Theatre\, 102 S Nelson \nSubject to change
URL:https://fscommunitytheatre.org/event/bod-meeting/2027-01-12/
CATEGORIES:Meetings
ATTACH;FMTTYPE=image/jpeg:https://fscommunitytheatre.org/wp-content/uploads/2020/06/FSCThdr_centered.jpg
END:VEVENT
BEGIN:VEVENT
DTSTART;TZID=America/Chicago:20261208T171500
DTEND;TZID=America/Chicago:20261208T180000
DTSTAMP:20260422T172642
CREATED:20250913T185438Z
LAST-MODIFIED:20250913T185438Z
UID:10001051-1796750100-1796752800@fscommunitytheatre.org
SUMMARY:FSCT Board of Directors Meeting
DESCRIPTION:The Fort Stockton Community Theatre Board of Directors meets the second Tuesday monthly in the FMH Hall at the Nelson Street Theatre\, 102 S Nelson \nSubject to change
URL:https://fscommunitytheatre.org/event/bod-meeting/2026-12-08/
CATEGORIES:Meetings
ATTACH;FMTTYPE=image/jpeg:https://fscommunitytheatre.org/wp-content/uploads/2020/06/FSCThdr_centered.jpg
END:VEVENT
BEGIN:VEVENT
DTSTART;TZID=America/Chicago:20261110T171500
DTEND;TZID=America/Chicago:20261110T180000
DTSTAMP:20260422T172642
CREATED:20250913T185438Z
LAST-MODIFIED:20250913T185438Z
UID:10001050-1794330900-1794333600@fscommunitytheatre.org
SUMMARY:FSCT Board of Directors Meeting
DESCRIPTION:The Fort Stockton Community Theatre Board of Directors meets the second Tuesday monthly in the FMH Hall at the Nelson Street Theatre\, 102 S Nelson \nSubject to change
URL:https://fscommunitytheatre.org/event/bod-meeting/2026-11-10/
CATEGORIES:Meetings
ATTACH;FMTTYPE=image/jpeg:https://fscommunitytheatre.org/wp-content/uploads/2020/06/FSCThdr_centered.jpg
END:VEVENT
BEGIN:VEVENT
DTSTART;TZID=America/Chicago:20261013T171500
DTEND;TZID=America/Chicago:20261013T180000
DTSTAMP:20260422T172642
CREATED:20250913T185438Z
LAST-MODIFIED:20250913T185438Z
UID:10001049-1791911700-1791914400@fscommunitytheatre.org
SUMMARY:FSCT Board of Directors Meeting
DESCRIPTION:The Fort Stockton Community Theatre Board of Directors meets the second Tuesday monthly in the FMH Hall at the Nelson Street Theatre\, 102 S Nelson \nSubject to change
URL:https://fscommunitytheatre.org/event/bod-meeting/2026-10-13/
CATEGORIES:Meetings
ATTACH;FMTTYPE=image/jpeg:https://fscommunitytheatre.org/wp-content/uploads/2020/06/FSCThdr_centered.jpg
END:VEVENT
BEGIN:VEVENT
DTSTART;TZID=America/Chicago:20260908T171500
DTEND;TZID=America/Chicago:20260908T180000
DTSTAMP:20260422T172642
CREATED:20250913T185438Z
LAST-MODIFIED:20250913T185438Z
UID:10001048-1788887700-1788890400@fscommunitytheatre.org
SUMMARY:FSCT Board of Directors Meeting
DESCRIPTION:The Fort Stockton Community Theatre Board of Directors meets the second Tuesday monthly in the FMH Hall at the Nelson Street Theatre\, 102 S Nelson \nSubject to change
URL:https://fscommunitytheatre.org/event/bod-meeting/2026-09-08/
CATEGORIES:Meetings
ATTACH;FMTTYPE=image/jpeg:https://fscommunitytheatre.org/wp-content/uploads/2020/06/FSCThdr_centered.jpg
END:VEVENT
BEGIN:VEVENT
DTSTART;TZID=America/Chicago:20260811T171500
DTEND;TZID=America/Chicago:20260811T180000
DTSTAMP:20260422T172642
CREATED:20250913T185438Z
LAST-MODIFIED:20250913T185438Z
UID:10001047-1786468500-1786471200@fscommunitytheatre.org
SUMMARY:FSCT Board of Directors Meeting
DESCRIPTION:The Fort Stockton Community Theatre Board of Directors meets the second Tuesday monthly in the FMH Hall at the Nelson Street Theatre\, 102 S Nelson \nSubject to change
URL:https://fscommunitytheatre.org/event/bod-meeting/2026-08-11/
CATEGORIES:Meetings
ATTACH;FMTTYPE=image/jpeg:https://fscommunitytheatre.org/wp-content/uploads/2020/06/FSCThdr_centered.jpg
END:VEVENT
BEGIN:VEVENT
DTSTART;TZID=America/Chicago:20260714T171500
DTEND;TZID=America/Chicago:20260714T180000
DTSTAMP:20260422T172642
CREATED:20250913T185438Z
LAST-MODIFIED:20250913T185438Z
UID:10001046-1784049300-1784052000@fscommunitytheatre.org
SUMMARY:FSCT Board of Directors Meeting
DESCRIPTION:The Fort Stockton Community Theatre Board of Directors meets the second Tuesday monthly in the FMH Hall at the Nelson Street Theatre\, 102 S Nelson \nSubject to change
URL:https://fscommunitytheatre.org/event/bod-meeting/2026-07-14/
CATEGORIES:Meetings
ATTACH;FMTTYPE=image/jpeg:https://fscommunitytheatre.org/wp-content/uploads/2020/06/FSCThdr_centered.jpg
END:VEVENT
BEGIN:VEVENT
DTSTART;TZID=America/Chicago:20260609T171500
DTEND;TZID=America/Chicago:20260609T180000
DTSTAMP:20260422T172642
CREATED:20250913T185438Z
LAST-MODIFIED:20250913T185438Z
UID:10001045-1781025300-1781028000@fscommunitytheatre.org
SUMMARY:FSCT Board of Directors Meeting
DESCRIPTION:The Fort Stockton Community Theatre Board of Directors meets the second Tuesday monthly in the FMH Hall at the Nelson Street Theatre\, 102 S Nelson \nSubject to change
URL:https://fscommunitytheatre.org/event/bod-meeting/2026-06-09/
CATEGORIES:Meetings
ATTACH;FMTTYPE=image/jpeg:https://fscommunitytheatre.org/wp-content/uploads/2020/06/FSCThdr_centered.jpg
END:VEVENT
BEGIN:VEVENT
DTSTART;TZID=America/Chicago:20260529T190000
DTEND;TZID=America/Chicago:20260603T210000
DTSTAMP:20260422T172642
CREATED:20260306T031052Z
LAST-MODIFIED:20260306T033340Z
UID:10001132-1780081200-1780520400@fscommunitytheatre.org
SUMMARY:The Odd Couple
DESCRIPTION:The Odd Couple by Neil Simon  By Special Arrangement with Samuel French and Concord Theatricals  \n\n\n\nThe Odd Couple (the original version by Neil Simon) will be reprised and will star veteran actors as well as some new faces. This comedy and its Female Version have been performed several times by FSCT\, but it always provides laughs watching Oscar Madison\, a happy-go-lucky-self-admitted slob\, and his friend Felix Unger\, an uptight-detail-oriented-clean freak\, try to live together and play poker with their four friends and date the Pigeon Sisters. Two Paisano Players will be playin’ around” in the cast with some of their older theatre buddies. It promises to be a fun-filled run. \n\n\n\nDirected by Alice DuerksenStarring Hector Soto and Ricky Gonzalez as the Odd Couple; Ray Blanco\, Malcolm Gonzales\, Zach Gray\, and Eli Schoenfeldt as the poker players; Susann Gallemore Inlow and Penny Smith as the Pigeon Sisters.  \n\n\n\nMay 29 – June 3. Watch for ticket prices
URL:https://fscommunitytheatre.org/event/__trashed/
ATTACH;FMTTYPE=image/jpeg:https://fscommunitytheatre.org/wp-content/uploads/2026/03/boerne_odd_couple_shoes.jpg
END:VEVENT
BEGIN:VEVENT
DTSTART;TZID=America/Chicago:20260512T171500
DTEND;TZID=America/Chicago:20260512T180000
DTSTAMP:20260422T172642
CREATED:20250913T185438Z
LAST-MODIFIED:20250913T185438Z
UID:10001044-1778606100-1778608800@fscommunitytheatre.org
SUMMARY:FSCT Board of Directors Meeting
DESCRIPTION:The Fort Stockton Community Theatre Board of Directors meets the second Tuesday monthly in the FMH Hall at the Nelson Street Theatre\, 102 S Nelson \nSubject to change
URL:https://fscommunitytheatre.org/event/bod-meeting/2026-05-12/
CATEGORIES:Meetings
ATTACH;FMTTYPE=image/jpeg:https://fscommunitytheatre.org/wp-content/uploads/2020/06/FSCThdr_centered.jpg
END:VEVENT
BEGIN:VEVENT
DTSTART;TZID=America/Chicago:20260414T171500
DTEND;TZID=America/Chicago:20260414T180000
DTSTAMP:20260422T172642
CREATED:20250913T185438Z
LAST-MODIFIED:20250913T185438Z
UID:10001043-1776186900-1776189600@fscommunitytheatre.org
SUMMARY:FSCT Board of Directors Meeting
DESCRIPTION:The Fort Stockton Community Theatre Board of Directors meets the second Tuesday monthly in the FMH Hall at the Nelson Street Theatre\, 102 S Nelson \nSubject to change
URL:https://fscommunitytheatre.org/event/bod-meeting/2026-04-14/
CATEGORIES:Meetings
ATTACH;FMTTYPE=image/jpeg:https://fscommunitytheatre.org/wp-content/uploads/2020/06/FSCThdr_centered.jpg
END:VEVENT
BEGIN:VEVENT
DTSTART;TZID=America/Chicago:20260329T140000
DTEND;TZID=America/Chicago:20260329T160000
DTSTAMP:20260422T172642
CREATED:20260306T030448Z
LAST-MODIFIED:20260306T030449Z
UID:10001134-1774792800-1774800000@fscommunitytheatre.org
SUMMARY:Texas Rhapsody (premiere March 2026)
DESCRIPTION:Fort Stockton Community Theatre is proud to host the Fort Stockton premiere of TEXAS RHAPSODY\, a film written by FSHS alum Sam Pfiester and starring local talent! \n\n\n\nTexas Rhapsody is a powerful\, inspiring film set in the oil fields and open skies of West Texas. Inspired by three real stories\, it follows lives shaped by immigration\, hard work\, and hope — where music becomes the language that connects us all. Written and produced by Sam Pfiester (Buttercup Productions) and directed by Taylor Stanley (Forest & Pine)\, the film brings together extraordinary performances by non-actors playing themselves (a few with slightly changed names)\, stunning Texas landscapes\, and an unflinching look at humanity. \n\n\n\nThe film will be screened for local audiences March 28 & 29\, 2026\, at the Nelson Street Theatre.  \n\n\n\nSaturday\, March 28 – 7:00 p.m.  – LOCAL MOVIE PREMIERE\, followed by Q&A and reception benefiting Fort Stockton Rotary Club’s service projects. \n\n\n\nSunday\, March 29 – 2:00 p.m. – MOVIE SCREENING \n\n\n\nTickets may be purchased online for $15.00 each. \n\n\n\n\n\n\n\nFor more information on making of TEXAS RHAPSODY\, as well as local featured talent\, visit www.texasrhapsodymovie.com.    
URL:https://fscommunitytheatre.org/event/texas-rhapsody-premiere-march-2026-2/
ATTACH;FMTTYPE=image/jpeg:https://fscommunitytheatre.org/wp-content/uploads/2026/03/Texas-Rhapsody.jpg
END:VEVENT
BEGIN:VEVENT
DTSTART;TZID=America/Chicago:20260328T190000
DTEND;TZID=America/Chicago:20260328T210000
DTSTAMP:20260422T172642
CREATED:20260306T030143Z
LAST-MODIFIED:20260306T030404Z
UID:10001133-1774724400-1774731600@fscommunitytheatre.org
SUMMARY:Texas Rhapsody (premiere March 2026)
DESCRIPTION:Fort Stockton Community Theatre is proud to host the Fort Stockton premiere of TEXAS RHAPSODY\, a film written by FSHS alum Sam Pfiester and starring local talent! \n\n\n\nTexas Rhapsody is a powerful\, inspiring film set in the oil fields and open skies of West Texas. Inspired by three real stories\, it follows lives shaped by immigration\, hard work\, and hope — where music becomes the language that connects us all. Written and produced by Sam Pfiester (Buttercup Productions) and directed by Taylor Stanley (Forest & Pine)\, the film brings together extraordinary performances by non-actors playing themselves (a few with slightly changed names)\, stunning Texas landscapes\, and an unflinching look at humanity. \n\n\n\nThe film will be screened for local audiences March 28 & 29\, 2026\, at the Nelson Street Theatre.  \n\n\n\nSaturday\, March 28 – 7:00 p.m.  – LOCAL MOVIE PREMIERE\, followed by Q&A and reception benefiting Fort Stockton Rotary Club’s service projects. \n\n\n\nSunday\, March 29 – 2:00 p.m. – MOVIE SCREENING \n\n\n\nTickets may be purchased online for $15.00 each. \n\n\n\n\n\n\n\nFor more information on making of TEXAS RHAPSODY\, as well as local featured talent\, visit www.texasrhapsodymovie.com.    
URL:https://fscommunitytheatre.org/event/texas-rhapsody-premiere-march-2026/
ATTACH;FMTTYPE=image/jpeg:https://fscommunitytheatre.org/wp-content/uploads/2026/03/Texas-Rhapsody.jpg
END:VEVENT
BEGIN:VEVENT
DTSTART;TZID=America/Chicago:20260322T140000
DTEND;TZID=America/Chicago:20260322T160000
DTSTAMP:20260422T172642
CREATED:20260306T031233Z
LAST-MODIFIED:20260306T031234Z
UID:10001136-1774188000-1774195200@fscommunitytheatre.org
SUMMARY:Laundry and Bourbon
DESCRIPTION:Fort Stockton Community Theatre is currently in production of Laundry and Bourbon\, a play by James McLure\, to be performed for competition in Theatre Network of Texas’ (TNT) TEXFest. The competition performance will take place Friday\, March 13th\, 2026\, at 4:15 p.m.\, at The Globe Theatre\, 2308 Shakespeare Rd\, Odessa\, TX 79761. Tickets for the competition performance are available online at https://buy.ticketstothecity.com/purchase.php?date_id=72630. \n\n\n\nFollowing competition\, Laundry and Bourbon will be staged for local audiences at the Nelson Street Theatre March 20-22\, 2026. \n\n\n\nFriday\, March 20th – 7:00 p.m. – Opening Performance \n\n\n\nSaturday\, March 21st – 7:00 p.m. – Performance\, followed with a light snack reception hosted by FSCT’s Board of Directors \n\n\n\nSunday\, March 22nd – 2:00 p.m. – Matinee \n\n\n\nDoors will open 30 minutes prior to each performance.  \n\n\n\nABOUT THE SHOW: On a hot summer afternoon in Maynard\, Texas\, Elizabeth and her friend Hattie sit out on the front porch folding laundry\, watching TV\, sipping bourbon and Coke\, and gossiping about small-town secrets.  They are joined by the self-righteous Amy Lee who can’t resist blurting out that Elizabeth’s husband Roy has been seen around town with another woman. While the ensuing conversation is increasingly edged with bitter humor\, from it emerges a sense of Elizabeth’s inner strength and her quiet understanding of the turmoil which has beset her husband since his return from Vietnam. \n\n\n\nLaundry and Bourbon stars Kendra Gray-Reed as Elizabeth Caulder\, Staci Schoenfeldt as Hattie Dealing\, and Penny Smith as Amy Lee Fullernoy.  \n\n\n\nTickets are $10.00 for Adults and $5.00 for Seniors (65+} and Students \n\n\n\nAdvanced tickets may be purchased online. \n\n\n\n\n\n\n\nTickets may be purchased at the door by cash or check for open seating – as long as tickets are available.  Call ahead at 432-336-3180 to Alice Duerksen for reserved seating beginning Wednesday\, March 18th. Online tickets sales will stop at NOON on each of the performance dates. Pre-paid reserved tickets are guaranteed only until 15 minutes prior to the curtain. No refunds will be issued.
URL:https://fscommunitytheatre.org/event/laundry-and-bourbon-3/
ATTACH;FMTTYPE=image/jpeg:https://fscommunitytheatre.org/wp-content/uploads/2026/01/Laundry-and-Bourbon.jpg
END:VEVENT
BEGIN:VEVENT
DTSTART;TZID=America/Chicago:20260321T190000
DTEND;TZID=America/Chicago:20260321T210000
DTSTAMP:20260422T172642
CREATED:20260306T031151Z
LAST-MODIFIED:20260306T031152Z
UID:10001135-1774119600-1774126800@fscommunitytheatre.org
SUMMARY:Laundry and Bourbon
DESCRIPTION:Fort Stockton Community Theatre is currently in production of Laundry and Bourbon\, a play by James McLure\, to be performed for competition in Theatre Network of Texas’ (TNT) TEXFest. The competition performance will take place Friday\, March 13th\, 2026\, at 4:15 p.m.\, at The Globe Theatre\, 2308 Shakespeare Rd\, Odessa\, TX 79761. Tickets for the competition performance are available online at https://buy.ticketstothecity.com/purchase.php?date_id=72630. \n\n\n\nFollowing competition\, Laundry and Bourbon will be staged for local audiences at the Nelson Street Theatre March 20-22\, 2026. \n\n\n\nFriday\, March 20th – 7:00 p.m. – Opening Performance \n\n\n\nSaturday\, March 21st – 7:00 p.m. – Performance\, followed with a light snack reception hosted by FSCT’s Board of Directors \n\n\n\nSunday\, March 22nd – 2:00 p.m. – Matinee \n\n\n\nDoors will open 30 minutes prior to each performance.  \n\n\n\nABOUT THE SHOW: On a hot summer afternoon in Maynard\, Texas\, Elizabeth and her friend Hattie sit out on the front porch folding laundry\, watching TV\, sipping bourbon and Coke\, and gossiping about small-town secrets.  They are joined by the self-righteous Amy Lee who can’t resist blurting out that Elizabeth’s husband Roy has been seen around town with another woman. While the ensuing conversation is increasingly edged with bitter humor\, from it emerges a sense of Elizabeth’s inner strength and her quiet understanding of the turmoil which has beset her husband since his return from Vietnam. \n\n\n\nLaundry and Bourbon stars Kendra Gray-Reed as Elizabeth Caulder\, Staci Schoenfeldt as Hattie Dealing\, and Penny Smith as Amy Lee Fullernoy.  \n\n\n\nTickets are $10.00 for Adults and $5.00 for Seniors (65+} and Students \n\n\n\nAdvanced tickets may be purchased online. \n\n\n\n\n\n\n\nTickets may be purchased at the door by cash or check for open seating – as long as tickets are available.  Call ahead at 432-336-3180 to Alice Duerksen for reserved seating beginning Wednesday\, March 18th. Online tickets sales will stop at NOON on each of the performance dates. Pre-paid reserved tickets are guaranteed only until 15 minutes prior to the curtain. No refunds will be issued.
URL:https://fscommunitytheatre.org/event/laundry-and-bourbon-2/
ATTACH;FMTTYPE=image/jpeg:https://fscommunitytheatre.org/wp-content/uploads/2026/01/Laundry-and-Bourbon.jpg
END:VEVENT
END:VCALENDAR