BEGIN:VCALENDAR
VERSION:2.0
PRODID:-//Fort Stockton Community Theatre - ECPv6.15.20//NONSGML v1.0//EN
CALSCALE:GREGORIAN
METHOD:PUBLISH
X-WR-CALNAME:Fort Stockton Community Theatre
X-ORIGINAL-URL:https://fscommunitytheatre.org
X-WR-CALDESC:Events for Fort Stockton Community Theatre
REFRESH-INTERVAL;VALUE=DURATION:PT1H
X-Robots-Tag:noindex
X-PUBLISHED-TTL:PT1H
BEGIN:VTIMEZONE
TZID:America/Chicago
BEGIN:DAYLIGHT
TZOFFSETFROM:-0600
TZOFFSETTO:-0500
TZNAME:CDT
DTSTART:20240310T080000
END:DAYLIGHT
BEGIN:STANDARD
TZOFFSETFROM:-0500
TZOFFSETTO:-0600
TZNAME:CST
DTSTART:20241103T070000
END:STANDARD
BEGIN:DAYLIGHT
TZOFFSETFROM:-0600
TZOFFSETTO:-0500
TZNAME:CDT
DTSTART:20250309T080000
END:DAYLIGHT
BEGIN:STANDARD
TZOFFSETFROM:-0500
TZOFFSETTO:-0600
TZNAME:CST
DTSTART:20251102T070000
END:STANDARD
BEGIN:DAYLIGHT
TZOFFSETFROM:-0600
TZOFFSETTO:-0500
TZNAME:CDT
DTSTART:20260308T080000
END:DAYLIGHT
BEGIN:STANDARD
TZOFFSETFROM:-0500
TZOFFSETTO:-0600
TZNAME:CST
DTSTART:20261101T070000
END:STANDARD
END:VTIMEZONE
BEGIN:VEVENT
DTSTART;TZID=America/Chicago:20251109T133000
DTEND;TZID=America/Chicago:20251109T153000
DTSTAMP:20260419T125638
CREATED:20250707T140005Z
LAST-MODIFIED:20251007T195617Z
UID:10000636-1762695000-1762702200@fscommunitytheatre.org
SUMMARY:Las Nuevas Tamaleras (November 2025)
DESCRIPTION:Fort Stockton Community Theatre presents at The Nelson Street Theatre “Las Nuevas Tamaleras”\, a delightful bilingual comedy by Alicia Mena. \nSATURDAY\, NOVEMBER 8 – 7:00 pm\nSUNDAY\, NOVEMBER 9 – 1:30 pm \nTicket Prices \nSaturday ADULT: $25.00\nSaturday SENIOR: $20.00\nSaturday STUDENT: $20.00\nSunday MATINEE – ALL AGES: $15.00 \nRefund/Exchange Policy: All sales are final
URL:https://fscommunitytheatre.org/event/las-nuevas-tamaleras-november-2025/2025-11-09/
LOCATION:Nelson Street Theatre\, 102 S Nelson St\, Fort Stockton\, TX\, 79735
CATEGORIES:Performances
ATTACH;FMTTYPE=image/png:https://fscommunitytheatre.org/wp-content/uploads/2023/09/Las-Nuevas-Tamaleras.png
ORGANIZER;CN="Fort Stockton Community Theatre":MAILTO:info@fscommunitytheatre.org
GEO:30.885307131159;-102.88051864522
X-APPLE-STRUCTURED-LOCATION;VALUE=URI;X-ADDRESS=Nelson Street Theatre 102 S Nelson St Fort Stockton TX 79735;X-APPLE-RADIUS=500;X-TITLE=102 S Nelson St:geo:-102.88051864522,30.885307131159
END:VEVENT
BEGIN:VEVENT
DTSTART;TZID=America/Chicago:20251108T190000
DTEND;TZID=America/Chicago:20251108T210000
DTSTAMP:20260419T125638
CREATED:20250707T140005Z
LAST-MODIFIED:20251007T195617Z
UID:10000635-1762628400-1762635600@fscommunitytheatre.org
SUMMARY:Las Nuevas Tamaleras (November 2025)
DESCRIPTION:Fort Stockton Community Theatre presents at The Nelson Street Theatre “Las Nuevas Tamaleras”\, a delightful bilingual comedy by Alicia Mena. \nSATURDAY\, NOVEMBER 8 – 7:00 pm\nSUNDAY\, NOVEMBER 9 – 1:30 pm \nTicket Prices \nSaturday ADULT: $25.00\nSaturday SENIOR: $20.00\nSaturday STUDENT: $20.00\nSunday MATINEE – ALL AGES: $15.00 \nRefund/Exchange Policy: All sales are final
URL:https://fscommunitytheatre.org/event/las-nuevas-tamaleras-november-2025/2025-11-08/
LOCATION:Nelson Street Theatre\, 102 S Nelson St\, Fort Stockton\, TX\, 79735
CATEGORIES:Performances
ATTACH;FMTTYPE=image/png:https://fscommunitytheatre.org/wp-content/uploads/2023/09/Las-Nuevas-Tamaleras.png
ORGANIZER;CN="Fort Stockton Community Theatre":MAILTO:info@fscommunitytheatre.org
GEO:30.885307131159;-102.88051864522
X-APPLE-STRUCTURED-LOCATION;VALUE=URI;X-ADDRESS=Nelson Street Theatre 102 S Nelson St Fort Stockton TX 79735;X-APPLE-RADIUS=500;X-TITLE=102 S Nelson St:geo:-102.88051864522,30.885307131159
END:VEVENT
BEGIN:VEVENT
DTSTART;TZID=America/Chicago:20250913T190000
DTEND;TZID=America/Chicago:20250913T210000
DTSTAMP:20260419T125638
CREATED:20250707T135350Z
LAST-MODIFIED:20250913T214312Z
UID:10000633-1757790000-1757797200@fscommunitytheatre.org
SUMMARY:BARRIO FEST – LIVE THEATRE @ FSCT
DESCRIPTION:BARRIO FEST – LIVE THEATRE @ FSCT \nSaturday\, September 13th – 7:00-9:00 p.m. \nI’ll Remember for You (Yo Me Acuerdo Por Ti): A Caregiver’s Story \nWritten by Lisa Suarez; performed by Sirena Productions (Corpus Christi\, TX) \nI’ll Remember for You explores the challenges and emotional impact of caring for someone with Alzheimer’s\, including the frustration of circular conversations and the fear of losing one’s own memory.  Set on the Southside of San Antonio\, this heartfelt one-woman show follows a middle-aged Latina caring for her mother with Alzheimer’s. Blending humor and heartbreak\, it explores the complexities of mother-daughter relationships\, cultural expectations\, and the emotional weight of caregiving in the Latino community. A moving story of love\, memory\, and the ties that connect us all.
URL:https://fscommunitytheatre.org/event/barrio-fest-live-theatre-fsct/
LOCATION:Nelson Street Theatre\, 102 S Nelson St\, Fort Stockton\, TX\, 79735
CATEGORIES:Performances
ATTACH;FMTTYPE=image/jpeg:https://fscommunitytheatre.org/wp-content/uploads/2025/07/Barrio-Fest-Logo-COPYRIGHT.jpg
ORGANIZER;CN="Fort Stockton Community Theatre":MAILTO:info@fscommunitytheatre.org
GEO:30.885307131159;-102.88051864522
X-APPLE-STRUCTURED-LOCATION;VALUE=URI;X-ADDRESS=Nelson Street Theatre 102 S Nelson St Fort Stockton TX 79735;X-APPLE-RADIUS=500;X-TITLE=102 S Nelson St:geo:-102.88051864522,30.885307131159
END:VEVENT
END:VCALENDAR